BEGIN:VCALENDAR
VERSION:2.0
PRODID:-//wp-events-plugin.com//7.2.3.1//EN
TZID:America/New_York
X-WR-TIMEZONE:America/New_York
BEGIN:VEVENT
UID:154@breatheatlanta.us
DTSTART;TZID=America/New_York:20240525T140000
DTEND;TZID=America/New_York:20240525T180000
DTSTAMP:20240327T114500Z
URL:https://breatheatlanta.us/events/mini-yoga-retreat/
SUMMARY:Mini Yoga Retreat
DESCRIPTION:\n\n\n\n\n\n\n\n\n\n\n\n\nExperience a profound disconnect from
  the external chaos to foster an intimate connection within. Embark on a t
 ransformative journey at a serene locale\, where the essence of this mini-
 retreat transcends mere physical presence.\n\nEvent Information:\n\nEvent 
 Name: Mini Yoga Retreat\nHost: Simone Santos\nDate and Time: Saturday\, Ma
 y 25 • 2 - 6pm EDT\n\nLocation: Santosha Studio 896 Davis Drive Northwes
 t Atlanta\, GA 30327 United States\n\nAbout this Event:\nDisconnecting fro
 m the outside to connect inside! Simone Santos for a mini yoga/breathwork/
 meditation retreat that guarantees to cleanse the old and prepare you for 
 a blissful summer. Whether you're new to yoga or a seasoned practitioner\,
  this retreat is designed for all. Expect healing exercises alongside yoga
 \, breathwork\, and meditation sessions. Bring your yoga mat\, a blanket\,
  and any other props for comfort.\n\nTicket Information:\n\nEarly Bird:\n\
 nPrice: $85.00 + $6.59 Sales Tax\n\nQuantity: Select quantity: Early bird 
 price: $85.00\n\nSales End: April 5\, 2024\n\nGeneral Admission:\n\nPrice:
  $100.00 + $7.75 Sales Tax\n\nSales Start: April 6\, 2024\n\nGET TICKETS\n
 \nRefund Policy: Contact the organizer for refunds. Eventbrite's fee is no
 nrefundable.\n\nWorkout Session Detail:\n\n02:00 PM: Check-in @ Santosha S
 tudio (ride share suggested due to limited parking)\n\n02:15 PM - 03:30 PM
 : Yoga Class (Asanas)\n\n03:30 PM - 03:45 PM: Break/Light snack (provided)
 \n\n03:45 PM - 04:15 PM: Breath work (Pranayama)\n\nEssential for Particip
 ants:\n\nYoga mat\, blanket\, any other props for comfort.\n\nParking Opti
 on: Limited parking available\; ride share suggested.\n\n\n\n\n\n\n\n\n\n\
 n\n\n
ATTACH;FMTTYPE=image/jpeg:https://breatheatlanta.us/wp-content/uploads/202
 4/03/https-__cdn.evbuc_.com_images_720575529_760092037653_1_original.jpg
CATEGORIES:Wellness Events,Yoga Events
LOCATION:Santosha Studio\, 896 Davis Drive Northwest Atlanta\, GA 30327 Uni
 ted States\, GA \,  United States\, 30327\, GA\, United States
X-APPLE-STRUCTURED-LOCATION;VALUE=URI;X-ADDRESS=896 Davis Drive Northwest A
 tlanta\, GA 30327 United States\, GA \,  United States\, 30327\, GA\, Unit
 ed States;X-APPLE-RADIUS=100;X-TITLE=Santosha Studio:geo:0,0
END:VEVENT
BEGIN:VTIMEZONE
TZID:America/New_York
X-LIC-LOCATION:America/New_York
BEGIN:DAYLIGHT
DTSTART:20240310T030000
TZOFFSETFROM:-0500
TZOFFSETTO:-0400
TZNAME:EDT
END:DAYLIGHT
END:VTIMEZONE
END:VCALENDAR