BEGIN:VCALENDAR
VERSION:2.0
PRODID:-//wp-events-plugin.com//7.2.3.1//EN
TZID:America/New_York
X-WR-TIMEZONE:America/New_York
BEGIN:VEVENT
UID:84@breatheatlanta.us
DTSTART;TZID=America/New_York:20240411T100000
DTEND;TZID=America/New_York:20240411T123000
DTSTAMP:20240322T113029Z
URL:https://breatheatlanta.us/events/minority-mens-health-program-april-11
 -2024/
SUMMARY:Minority Men's Health Program | April 11\, 2024
DESCRIPTION:An enriching experience at the Emory Brain Health Center! Join 
 us for a program tailored to foster fellowship\, stimulate engagement\, an
 d delve into crucial health-related topics.\n\nEvent Information:\n\nEvent
  Name: Minority Men's Health Program\n\nHost: Emory Goizueta Alzheimer's D
 isease Research Center\n\nDate and Time: Thursday\, April 11\, 2024\, 10:0
 0 AM - 12:30 PM EDT\n\nLocation: Emory Brain Health Center - Neurology\, 1
 2 Executive Park Drive Northeast\, Atlanta\, GA 30329\, United States\n\nT
 icket Price: Free\n\nGET TICKETS\nAbout this Event:The Emory Brain Health 
 Center in Atlanta for the Minority Men's Health Program\, organized by the
  Emory Goizueta Alzheimer's Disease Research Center. This program is desig
 ned to provide fellowship\, engagement\, and discussions on health-related
  topics tailored specifically for minority men. The event includes interac
 tive sessions\, exercise\, food\, and fellowship. Invite your dads\, husba
 nds\, brothers\, family\, and friends. Fitness Expert John Lewis will make
  a special guest appearance and demonstrate exercises. The program format 
 includes a research panel\, lunch\, fitness\, chair exercises\, and live m
 usic. For inquiries\, please contact Crystal Davis at cpdavis@emory.edu or
  404-727-6696.\n\nWorkout Session Detail: Fitness and chair exercises will
  be led by Fitness Expert John Lewis.\n\nEssential for Bring: Feel free to
  invite your dads\, husbands\, brothers\, family\, and friends to join you
 .\n\nParking Option: Parking is available at the Emory Brain Health Center
  - Neurology location.\n\n
ATTACH;FMTTYPE=image/jpeg:https://breatheatlanta.us/wp-content/uploads/202
 4/03/https___cdn.evbuc_.com_images_719086389_188884861006_1_original.jpg
CATEGORIES:Wellness Events
LOCATION:Emory Brain Health Center - Neurology\, 12 Executive Park Drive No
 rtheast Atlanta\, GA 30329 United States\, GA\, United States\,  30329 \, 
 GA \, United States
X-APPLE-STRUCTURED-LOCATION;VALUE=URI;X-ADDRESS=12 Executive Park Drive Nor
 theast Atlanta\, GA 30329 United States\, GA\, United States\,  30329 \, G
 A \, United States;X-APPLE-RADIUS=100;X-TITLE=Emory Brain Health Center - 
 Neurology:geo:0,0
END:VEVENT
BEGIN:VTIMEZONE
TZID:America/New_York
X-LIC-LOCATION:America/New_York
BEGIN:DAYLIGHT
DTSTART:20240310T030000
TZOFFSETFROM:-0500
TZOFFSETTO:-0400
TZNAME:EDT
END:DAYLIGHT
END:VTIMEZONE
END:VCALENDAR