BEGIN:VCALENDAR
VERSION:2.0
PRODID:-//wp-events-plugin.com//7.2.3.1//EN
TZID:America/New_York
X-WR-TIMEZONE:America/New_York
BEGIN:VEVENT
UID:391@breatheatlanta.us
DTSTART;TZID=America/New_York:20240703T190000
DTEND;TZID=America/New_York:20240703T203000
DTSTAMP:20240730T202536Z
URL:https://breatheatlanta.us/events/moonbath/
SUMMARY:MOONBATH
DESCRIPTION:Experience a transformative journey with "Moonbath: Lunar Sonic
  Meditations for Manifestation and Renewal\," a series of intimate therape
 utic sessions held on the new and full moons. This unique event harnesses 
 the powerful energies of these lunar phases to help participants conscious
 ly co-create their dreams with focused intention and purpose.\n\nEach sess
 ion will be guided by the celestial\, therapeutic tones of quartz crystal 
 singing bowls and the resonant harmonies of gongs\, designed to align with
  the specific energies of the moon. Participants will benefit from a profo
 und sonic experience that facilitates the removal of energetic blockages a
 nd the activation of new\, positive energies.\n\nSet in a serene sonic spa
  dedicated to resurrection and rejuvenation\, these meditations will open 
 a portal to new beginnings\, offering a space for deep healing and persona
 l growth. Join us each month on the new and full moons to optimize lunar e
 nergies and embark on a journey of inner transformation and renewal.\n\nGE
 T TICKETS\n
ATTACH;FMTTYPE=image/jpeg:https://breatheatlanta.us/wp-content/uploads/202
 4/07/MOONBATH.jpg
CATEGORIES:Mindfulness Events,Things To Do,Wellness Events
LOCATION:Astral Bodyworks\, 945 Allene Avenue Southwest #Suite 7 \, Atlanta
 \, GA\, 30310\, GA\, United States
X-APPLE-STRUCTURED-LOCATION;VALUE=URI;X-ADDRESS=945 Allene Avenue Southwest
  #Suite 7 \, Atlanta\, GA\, 30310\, GA\, United States;X-APPLE-RADIUS=100;
 X-TITLE=Astral Bodyworks:geo:0,0
END:VEVENT
BEGIN:VTIMEZONE
TZID:America/New_York
X-LIC-LOCATION:America/New_York
BEGIN:DAYLIGHT
DTSTART:20240310T030000
TZOFFSETFROM:-0500
TZOFFSETTO:-0400
TZNAME:EDT
END:DAYLIGHT
END:VTIMEZONE
END:VCALENDAR