BEGIN:VCALENDAR
VERSION:2.0
PRODID:-//wp-events-plugin.com//7.2.3.1//EN
TZID:America/New_York
X-WR-TIMEZONE:America/New_York
BEGIN:VEVENT
UID:576@breatheatlanta.us
DTSTART;TZID=America/New_York:20241031T193000
DTEND;TZID=America/New_York:20241031T203000
DTSTAMP:20241009T121814Z
URL:https://breatheatlanta.us/events/moonlight-magic-a-restorative-experie
 nce/
SUMMARY:Moonlight Magic: A Restorative Experience
DESCRIPTION:Join us on Thursday\, October 31\, 2024\, from 7:30 PM to 8:30 
 PM for an enchanting evening of relaxation and renewal at Moonlight Magic\
 , a special Restorative Yin yoga class. Set under the enchanting glow of t
 he Halloween moon and illuminated by soft candlelight\, this class is thou
 ghtfully designed to help participants unwind and rejuvenate both body and
  mind.\n\nAttendees can expect a serene atmosphere enhanced by dim lightin
 g and soothing music\, guiding them through a series of long-held yin post
 ures. These gentle\, restorative poses will allow participants to fully me
 lt into each position\, fostering deep relaxation and promoting energy res
 toration. This tranquil practice is an ideal way to connect with the seaso
 n's reflective energy\, leaving participants feeling grounded and revitali
 zed.\n\nReasons to Attend:\n\n 	Perfect for winding down after the excitem
 ent of Halloween festivities.\n 	A nurturing environment dedicated to deep
  relaxation and self-care.\n 	An opportunity to embrace the reflective ene
 rgy of the full moon.\n\nParticipants are encouraged to bring a friend and
  wear their coziest yoga attire—no tricks\, just treats for the body and
  soul! With limited spaces available\, be sure to reserve your spot today 
 and immerse yourself in the magic of moonlit restoration. 🌕✨\n\nGET T
 ICKETS\n
ATTACH;FMTTYPE=image/jpeg:https://breatheatlanta.us/wp-content/uploads/202
 4/10/Moonlight-Magic.jpeg
CATEGORIES:Yoga Events
LOCATION:Functional Yoga Medicine formerly Alkaline Wellness Center\, 686 P
 eachtree Industrial Boulevard \, #Suite 135 Suwanee\, California\, 30024\,
  CA\, United States
X-APPLE-STRUCTURED-LOCATION;VALUE=URI;X-ADDRESS=686 Peachtree Industrial Bo
 ulevard \, #Suite 135 Suwanee\, California\, 30024\, CA\, United States;X-
 APPLE-RADIUS=100;X-TITLE=Functional Yoga Medicine formerly Alkaline Wellne
 ss Center:geo:0,0
END:VEVENT
BEGIN:VTIMEZONE
TZID:America/New_York
X-LIC-LOCATION:America/New_York
BEGIN:DAYLIGHT
DTSTART:20240310T030000
TZOFFSETFROM:-0500
TZOFFSETTO:-0400
TZNAME:EDT
END:DAYLIGHT
END:VTIMEZONE
END:VCALENDAR