BEGIN:VCALENDAR
VERSION:2.0
PRODID:-//wp-events-plugin.com//7.2.3.1//EN
TZID:America/New_York
X-WR-TIMEZONE:America/New_York
BEGIN:VEVENT
UID:121@breatheatlanta.us
DTSTART;TZID=America/New_York:20240408T090000
DTEND;TZID=America/New_York:20240408T100000
DTSTAMP:20240323T083028Z
URL:https://breatheatlanta.us/events/morning-prenatal-postnatal-yoga-sessi
 on/
SUMMARY:Morning Prenatal & Postnatal Yoga Session
DESCRIPTION:For a prenatal yoga class specially crafted for mothers\, aimed
  at preparing the mind\, body\, and spirit for the transformative journey 
 of motherhood. Delve into a nurturing environment designed to support you 
 through this significant life change. Through gentle yoga poses and mindfu
 l practices\, we'll help alleviate physical discomfort and cultivate inner
  strength\, resilience\, and peace. Embrace this opportunity to connect wi
 th your body\, your baby\, and other expecting mothers as you embark on th
 is beautiful journey together.\n\nEvent Information:\n\nEvent Name: Mornin
 g Prenatal &amp\; Postnatal Yoga Session\n\nHost: Relax and Recover Doula 
 Services\, LLC\n\nDate and Time: Monday\, April 8 • 9:00 - 10:00 am EDT\
 n\nTicket: Free\n\nGET TICKETS\n\nLocation: STUDIO 87 Yoga\, 87 South Peac
 htree Street Norcross\, GA 30071\, United States\n\nAbout this Event: Prep
 are your mind\, body\, and spirit for the journey of motherhood with our M
 orning Prenatal &amp\; Postnatal Yoga Sessions. Led by Relax and Recover D
 oula Services\, LLC\, this class is designed specifically for mothers-to-b
 e and new mothers\, offering a nurturing environment to support your prena
 tal and postnatal needs. Whether you're expecting or have recently given b
 irth\, this session provides gentle yoga poses and breathing techniques to
  help alleviate discomfort\, reduce stress\, and promote overall well-bein
 g. Join us and connect with other mothers as you embark on this transforma
 tive journey together.\n\nWorkout Session Detail:\n\nDuration: 1 hour\n\nP
 renatal and postnatal yoga poses\n\nBreathing techniques for relaxation an
 d stress reduction\n\nEssential for Attendees:\n\nComfortable clothing sui
 table for yoga practice\n\nYoga mat\n\nWater bottle\n\nOpen mind and willi
 ngness to connect with other mothers\n\nParking Option: Not specified in t
 he provided information.\n\nRefund Policy: Contact the organizer to reques
 t a refund. Eventbrite's fee is nonrefundable.
ATTACH;FMTTYPE=image/jpeg:https://breatheatlanta.us/wp-content/uploads/202
 4/03/kkkkkkkkkkk-1.jpg
CATEGORIES:Wellness Events,Yoga Events
LOCATION:STUDIO 87 Yoga\,   87 South Peachtree Street \, \, Norcross\,  Uni
 ted States\, 30071\, GA \, United States
X-APPLE-STRUCTURED-LOCATION;VALUE=URI;X-ADDRESS=  87 South Peachtree Street
  \, \, Norcross\,  United States\, 30071\, GA \, United States;X-APPLE-RAD
 IUS=100;X-TITLE=STUDIO 87 Yoga:geo:0,0
END:VEVENT
BEGIN:VTIMEZONE
TZID:America/New_York
X-LIC-LOCATION:America/New_York
BEGIN:DAYLIGHT
DTSTART:20240310T030000
TZOFFSETFROM:-0500
TZOFFSETTO:-0400
TZNAME:EDT
END:DAYLIGHT
END:VTIMEZONE
END:VCALENDAR