BEGIN:VCALENDAR
VERSION:2.0
PRODID:-//wp-events-plugin.com//7.2.3.1//EN
TZID:America/New_York
X-WR-TIMEZONE:America/New_York
BEGIN:VEVENT
UID:101@breatheatlanta.us
DTSTART;TZID=America/New_York:20240518T100000
DTEND;TZID=America/New_York:20240518T140000
DTSTAMP:20240317T211239Z
URL:https://breatheatlanta.us/events/mothers-day-spa-retreat-brunch-editio
 n/
SUMMARY:Mothers Day Spa Retreat (Brunch Edition)
DESCRIPTION:\nCelebrate Mom in Style: Mother's Day Spa Retreat with Brunch!
 \nSpoil Mom this Mother's Day! Treat her to a luxurious escape at our Moth
 er's Day Spa Retreat (Brunch Edition) on Saturday\, May 18th\, 2024\, star
 ting at 10:00 AM.\nNestled in our beautiful location at 150 Rainbow Way\, 
 this retreat offers the perfect blend of pampering and celebration:\n\n\n 
 	Indulge in Luxurious Spa Treatments: Melt away stress and rejuvenate with
  a variety of spa services designed to make Mom feel like royalty.\n 	Savo
 r a Mouthwatering Brunch: Feast on a delicious brunch spread that will tan
 talize taste buds and satisfy every craving.\n 	Quality Time with Loved On
 es: Create lasting memories as you bond with Mom in a serene and relaxing 
 environment.\n 	Special Surprises for All the Moms: Get ready for some hea
 rtwarming surprises throughout the day\, designed to show Mom just how muc
 h she's appreciated.\n\nThis is more than just a spa day – it's a day de
 dicated to Mom!\n\n\n 	Show Your Appreciation: Express your love and grati
 tude to the incredible woman who raised you.\n 	Create Lasting Memories: B
 ond with Mom over shared experiences and create treasured memories that wi
 ll last a lifetime.\n 	Gift of Relaxation: Give Mom the gift of self-care 
 and a much-deserved escape from the everyday hustle.\n\nLimited Spots Avai
 lable!\nDon't miss out on this unique opportunity to celebrate Mom in styl
 e! Secure your spot today and ensure a Mother's Day she'll never forget.\n
 Celebrate Mom at the Mother's Day Spa Retreat – Book Now!\n\n\n\n\nBUY T
 ICKETS\n\n
ATTACH;FMTTYPE=image/jpeg:https://breatheatlanta.us/wp-content/uploads/202
 4/03/https___cdn.evbuc_.com_images_720090869_144830772028_1_original.jpeg
CATEGORIES:Wellness Events
LOCATION:150 Rainbow Way\, 150 Rainbow Way \, Fayetteville\, Georgia\, 3021
 4\, United States
X-APPLE-STRUCTURED-LOCATION;VALUE=URI;X-ADDRESS=150 Rainbow Way \, Fayettev
 ille\, Georgia\, 30214\, United States;X-APPLE-RADIUS=100;X-TITLE=150 Rain
 bow Way:geo:0,0
END:VEVENT
BEGIN:VTIMEZONE
TZID:America/New_York
X-LIC-LOCATION:America/New_York
BEGIN:DAYLIGHT
DTSTART:20240310T030000
TZOFFSETFROM:-0500
TZOFFSETTO:-0400
TZNAME:EDT
END:DAYLIGHT
END:VTIMEZONE
END:VCALENDAR