BEGIN:VCALENDAR
VERSION:2.0
PRODID:-//wp-events-plugin.com//7.2.3.1//EN
TZID:America/New_York
X-WR-TIMEZONE:America/New_York
BEGIN:VEVENT
UID:203@breatheatlanta.us
DTSTART;TZID=America/New_York:20240512T090000
DTEND;TZID=America/New_York:20240512T110000
DTSTAMP:20240401T081355Z
URL:https://breatheatlanta.us/events/mothers-day-yoga-flow-with-tenisha-ca
 mille/
SUMMARY:Mother's Day Yoga Flow with Tenisha Camille
DESCRIPTION:\n\n\n\n\n\n\n\n\n\n\n\n\n\nImmerse yourself in the serene beau
 ty of the Yellow River as you practice yoga\, soaking in the picturesque s
 urroundings.\n\nEvent Information:\n\nEvent Name: Mother's Day Yoga Flow w
 ith Tenisha Camille\n\nDate and Time: Sunday\, May 12\, 9:00 AM - 11:00 AM
  EDT.\n\nLocation: Yellow River Park\, 3232 Juhan Road Southwest\, Stone M
 ountain\, GA 30087\, United States\n\nTicket Price:\n\nGeneral Admission: 
 $25.00\n\nSubtotal: $25.00\n\nSales Tax: $1.50\n\nTotal: $26.50\n\nGET TIC
 KETS\n\n\n\nAbout this Event: A serene Mother's Day yoga flow by the Yello
 w River. Take in the beautiful view as you celebrate all mothers with Teni
 sha Camille. "Momosas" and light refreshments will be served. Limited spot
 s available\, register soon!\n\nWorkout Session Detail:\n\nDuration: 2 hou
 rs\n\nFocus: Yoga flow to celebrate Mother's Day\n\nEssentials to Bring:\n
 \nYoga mat\n\nComfortable clothing\n\nWater bottle\n\nParking Option: Avai
 lable at Yellow River Park.\n\nRefund Policy: Contact the organizer to req
 uest a refund. Eventbrite's fee is nonrefundable.\n\nCelebrate Mother's Da
 y in tranquility and harmony with Tenisha Camille. Reserve your spot today
  and share this special day with fellow beautiful ladies!\n\n\n\n\n\n\n\n&
 nbsp\;\n\n\n\n\n\n\n\n\n\n\n\n\n\n\n\n\n\n\n\n\n\n\n\n\n
ATTACH;FMTTYPE=image/jpeg:https://breatheatlanta.us/wp-content/uploads/202
 4/04/https___cdn.evbuc_.com_images_715226609_1040681470373_1_original.jpeg
CATEGORIES:Wellness Events,Yoga Events
LOCATION:Yellow River Park - Bicycle Trail\,   3232 Juhan Rd SW Stone \, \,
  Mountain\, United States\, 30087 \, GA \, United States
X-APPLE-STRUCTURED-LOCATION;VALUE=URI;X-ADDRESS=  3232 Juhan Rd SW Stone \,
  \, Mountain\, United States\, 30087 \, GA \, United States;X-APPLE-RADIUS
 =100;X-TITLE=Yellow River Park - Bicycle Trail:geo:0,0
END:VEVENT
BEGIN:VTIMEZONE
TZID:America/New_York
X-LIC-LOCATION:America/New_York
BEGIN:DAYLIGHT
DTSTART:20240310T030000
TZOFFSETFROM:-0500
TZOFFSETTO:-0400
TZNAME:EDT
END:DAYLIGHT
END:VTIMEZONE
END:VCALENDAR