BEGIN:VCALENDAR
VERSION:2.0
PRODID:-//wp-events-plugin.com//7.2.3.1//EN
TZID:America/New_York
X-WR-TIMEZONE:America/New_York
BEGIN:VEVENT
UID:420@breatheatlanta.us
DTSTART;TZID=America/New_York:20240907T090000
DTEND;TZID=America/New_York:20240907T130000
DTSTAMP:20240903T074847Z
URL:https://breatheatlanta.us/events/movement-mocktails-wellness-day/
SUMMARY:Movement & Mocktails Wellness Day
DESCRIPTION:Recharge and reconnect at Movement &amp\; Mocktails Wellness Da
 y in Decatur Square! Hosted by Clarity Fitness and ATL Rising Women\, this
  outdoor event is your opportunity to refresh your body\, mind\, and spiri
 t in a vibrant community setting.\n\nStart your day with wellness sessions
  that combine movement and mindfulness\, tailored to help you find balance
  and energy. Experience the soothing benefits of complimentary mobile saun
 a sessions\, and explore a variety of wellness vendors offering products a
 nd insights to enhance your well-being.\n\nAfter a morning of self-care an
 d new connections\, join us for a lively happy hour on the patio of Brick 
 Store Pub\, just steps away from the square. Whether you're seeking relaxa
 tion\, inspiration\, or simply a fun day out\, Movement &amp\; Mocktails W
 ellness Day is your perfect escape for a healthier\, happier you.\n\nGET T
 ICKETS\n
ATTACH;FMTTYPE=image/jpeg:https://breatheatlanta.us/wp-content/uploads/202
 4/09/Movement-Mocktails-Wellness-Day.jpg
CATEGORIES:Mindfulness Events,Things To Do,Wellness Events
LOCATION:Decatur Square\, 509 North McDonough Street Decatur\, Atlanta\, Ge
 orgia\, 30030\, GA\, United States
X-APPLE-STRUCTURED-LOCATION;VALUE=URI;X-ADDRESS=509 North McDonough Street 
 Decatur\, Atlanta\, Georgia\, 30030\, GA\, United States;X-APPLE-RADIUS=10
 0;X-TITLE=Decatur Square:geo:0,0
END:VEVENT
BEGIN:VTIMEZONE
TZID:America/New_York
X-LIC-LOCATION:America/New_York
BEGIN:DAYLIGHT
DTSTART:20240310T030000
TZOFFSETFROM:-0500
TZOFFSETTO:-0400
TZNAME:EDT
END:DAYLIGHT
END:VTIMEZONE
END:VCALENDAR