BEGIN:VCALENDAR
VERSION:2.0
PRODID:-//wp-events-plugin.com//7.2.3.1//EN
TZID:America/New_York
X-WR-TIMEZONE:America/New_York
BEGIN:VEVENT
UID:53@breatheatlanta.us
DTSTART;TZID=America/New_York:20240325T190000
DTEND;TZID=America/New_York:20240325T203000
DTSTAMP:20240321T071837Z
URL:https://breatheatlanta.us/events/movement-mocktails/
SUMMARY:Movement & Mocktails
DESCRIPTION:Come and immerse yourself in an evening of rejuvenation and con
 nection at Clarity Fitness. Join us for a delightful blend of restorative 
 movement\, revitalizing mocktails\, and the opportunity to forge new conne
 ctions that uplift and inspire.\n\nEvent Information:\n\nEvent Name: Movem
 ent &amp\; Mocktails\n\nHost: The Mirror Impact\n\nDate and Time:\n\nDate:
  Monday\, March 25\, 2024\n\nTime: 7:00 pm - 8:30 pm EDT\n\nLocation:\n\nV
 enue: Clarity Fitness | Decatur Gym\n\nAddress: 1 West Court Square #100\,
  Decatur\, GA 30030\, United States\n\nTicket Information:\n\nGeneral Admi
 ssion: $20.00 + $3.18 Fee / + $1.85 Sales Tax\n\nSales end on Mar 25\, 202
 4\n\nClarity Member Admission: Free\n\nSales end on Mar 25\, 2024\n\n&nbsp
 \;\n\nGET TICKETS\n\nAbout this Event:\n\nIndulge in an evening of rejuven
 ating movement and refreshing mocktails at Clarity Fitness. Hosted by The 
 Mirror Impact\, this event offers the perfect opportunity to unwind\, conn
 ect with like-minded individuals\, and kickstart your week feeling empower
 ed.\n\nLed by Brittney\, one of Clarity's skilled female fitness instructo
 rs\, the yoga class welcomes participants of all fitness and flexibility l
 evels. Modifications and tools will be provided to ensure everyone can ful
 ly engage in the session.\n\nBring your yoga mat if you prefer\, although 
 mats will also be available in the group exercise room. Arrive a few minut
 es early to park\, sign in\, and get settled before the class begins promp
 tly at 7:00 pm.\n\nDon't miss out on this chance to enjoy a fulfilling eve
 ning of movement and mingling. Remember to invite your gym buddy and join 
 us for an unforgettable experience!\n\nEssentials to Bring:\n\nYoga mat (o
 ptional)\n\nComfortable workout attire\n\nPositive attitude and willingnes
 s to participate\n\nParking Options:\n\n2 hours of free parking validated.
  Find parking directions here.
ATTACH;FMTTYPE=image/jpeg:https://breatheatlanta.us/wp-content/uploads/202
 4/03/https___cdn.evbuc_.com_images_717020479_501371090223_1_original.jpeg
CATEGORIES:Wellness Events,Yoga Events
LOCATION:Clarity Fitness | Decatur Gym\, 1 West Court Square #100 Decatur\,
  GA 30030 United States\, GA\,  United States\,  30030\, GA\, United State
 s
X-APPLE-STRUCTURED-LOCATION;VALUE=URI;X-ADDRESS=1 West Court Square #100 De
 catur\, GA 30030 United States\, GA\,  United States\,  30030\, GA\, Unite
 d States;X-APPLE-RADIUS=100;X-TITLE=Clarity Fitness | Decatur Gym:geo:0,0
END:VEVENT
BEGIN:VTIMEZONE
TZID:America/New_York
X-LIC-LOCATION:America/New_York
BEGIN:DAYLIGHT
DTSTART:20240310T030000
TZOFFSETFROM:-0500
TZOFFSETTO:-0400
TZNAME:EDT
END:DAYLIGHT
END:VTIMEZONE
END:VCALENDAR