BEGIN:VCALENDAR
VERSION:2.0
PRODID:-//wp-events-plugin.com//7.2.3.1//EN
TZID:America/New_York
X-WR-TIMEZONE:America/New_York
BEGIN:VEVENT
UID:624@breatheatlanta.us
DTSTART;TZID=America/New_York:20241109T110000
DTEND;TZID=America/New_York:20241109T180000
DTSTAMP:20241014T103627Z
URL:https://breatheatlanta.us/events/mujer-recupera-tu-poder/
SUMMARY:MUJER RECUPERA TU PODER!
DESCRIPTION:\n\n\n\n\nDon’t miss this empowering event designed specifica
 lly for women like you! Join us on Saturday\, November 9\, 2024\, at 11:00
  AM at 1960 Satellite Blvd NW\, Duluth\, GA.\n\nThis event is your chance 
 to rediscover your inner strength\, boost your self-esteem\, and achieve y
 our goals! Enjoy inspiring talks\, hands-on workshops\, and the opportunit
 y to connect with other empowered women. Special guest Eduardo Gaoch\, a r
 enowned speaker with over 1\,000 presentations across the US\, will also b
 e present. Gaoch is the author of "Master Your Emotions When Speaking in P
 ublic" and was the Manager for Alex Dey from 2013 to 2017\, now serving as
  Manager for Nayo Escobar.\n\nDon’t miss this incredible opportunity for
  personal growth and empowerment. We welcome you with open arms!"\n\n\n\n\
 n\n\n\n\n\n&nbsp\;\n\n\n\nGET TICKETS\n\n\n\n\n
ATTACH;FMTTYPE=image/jpeg:https://breatheatlanta.us/wp-content/uploads/202
 4/10/MUJER-RECUPERA.jpeg
CATEGORIES:Wellness Events
LOCATION:1960 Satellite Blvd NW\, 1960 Satellite Blvd NW  1960 Satellite Bo
 ulevard\, Northwest #suite 1100 Duluth\, Georgia\, 30097 \, GA\, United St
 ates
X-APPLE-STRUCTURED-LOCATION;VALUE=URI;X-ADDRESS=1960 Satellite Blvd NW  196
 0 Satellite Boulevard\, Northwest #suite 1100 Duluth\, Georgia\, 30097 \, 
 GA\, United States;X-APPLE-RADIUS=100;X-TITLE=1960 Satellite Blvd NW:geo:0
 ,0
END:VEVENT
BEGIN:VTIMEZONE
TZID:America/New_York
X-LIC-LOCATION:America/New_York
BEGIN:STANDARD
DTSTART:20241103T010000
TZOFFSETFROM:-0400
TZOFFSETTO:-0500
TZNAME:EST
END:STANDARD
END:VTIMEZONE
END:VCALENDAR