BEGIN:VCALENDAR
VERSION:2.0
PRODID:-//wp-events-plugin.com//7.2.3.1//EN
TZID:America/New_York
X-WR-TIMEZONE:America/New_York
BEGIN:VEVENT
UID:675@breatheatlanta.us
DTSTART;TZID=America/New_York:20241025T183000
DTEND;TZID=America/New_York:20241025T213000
DTSTAMP:20241018T115852Z
URL:https://breatheatlanta.us/events/murder-mystery-dinner-at-park-82/
SUMMARY:Murder Mystery Dinner At Park 82
DESCRIPTION:Prepare for an unforgettable evening of suspense and intrigue a
 t the Murder Mystery Dinner held at Park 82! Guests are invited to engage 
 in an interactive and thrilling experience titled The Death of a Gangster\
 , set against the backdrop of the glamorous 1920s. This immersive event pr
 omises an evening filled with unexpected twists as participants work toget
 her to solve a captivating murder mystery.\n\nAs attendees arrive\, they w
 ill be treated to a delectable three-course meal\, complemented by a full 
 bar offering a selection of drinks available for purchase. To enhance the 
 experience\, guests are highly encouraged to don costumes reflective of th
 e era—think flappers\, mob bosses\, or cunning private detectives. Dress
 ing up will not only add to the festive atmosphere but also help everyone 
 fully immerse themselves in the unfolding drama.\n\nWhile savoring gourmet
  cuisine\, guests will have the opportunity to unravel clues\, engage with
  characters\, and piece together the mystery at hand. This event is design
 ed for everyone\, from seasoned sleuths who thrive on challenge to those n
 ew to the world of murder mysteries\, ensuring a night brimming with excit
 ement and camaraderie.\n\nWhether solving puzzles or simply enjoying the a
 mbiance\, participants are guaranteed a captivating night filled with myst
 ery\, laughter\, and unforgettable memories. Join friends for a memorable 
 evening of fun at the Murder Mystery Dinner at Park 82—where the only th
 ing more delicious than the food will be the suspense!\n\nGET TICKETS\n
ATTACH;FMTTYPE=image/jpeg:https://breatheatlanta.us/wp-content/uploads/202
 4/10/Murder-Mystery-Dinner-At-Park-82.jpg
CATEGORIES:Things To Do
LOCATION:Park 82\, 4403 Northside Parkway Northwest Atlanta\, Atlanta\, Geo
 rgia\, 30327\,  GA\, United States
X-APPLE-STRUCTURED-LOCATION;VALUE=URI;X-ADDRESS=4403 Northside Parkway Nort
 hwest Atlanta\, Atlanta\, Georgia\, 30327\,  GA\, United States;X-APPLE-RA
 DIUS=100;X-TITLE=Park 82:geo:0,0
END:VEVENT
BEGIN:VTIMEZONE
TZID:America/New_York
X-LIC-LOCATION:America/New_York
BEGIN:DAYLIGHT
DTSTART:20240310T030000
TZOFFSETFROM:-0500
TZOFFSETTO:-0400
TZNAME:EDT
END:DAYLIGHT
END:VTIMEZONE
END:VCALENDAR