BEGIN:VCALENDAR
VERSION:2.0
PRODID:-//wp-events-plugin.com//7.2.3.1//EN
TZID:America/New_York
X-WR-TIMEZONE:America/New_York
BEGIN:VEVENT
UID:124@breatheatlanta.us
DTSTART;TZID=America/New_York:20240405T130000
DTEND;TZID=America/New_York:20240405T150000
DTSTAMP:20240909T094248Z
URL:https://breatheatlanta.us/events/musclematters-bus-tour-at-inspire-wel
 lness/
SUMMARY:#MuscleMatters Bus Tour at Inspire Wellness!
DESCRIPTION:\n\n\n\n\n\n\n\n\n\n\n\n\nCome and be a part of the transformat
 ive #MUSCLEMATTERS Bus Tour at Inspire Wellness &amp\; Aesthetics! Immerse
  yourself in an extraordinary experience where you can explore the cutting
 -edge EMSculpt NEO and EMSella treatments.\n\nEvent Information:\n\nDate a
 nd Time: Friday\, April 5\, 1:00 - 3:00 pm EDT\n\nLocation: Inspire Wellne
 ss &amp\; Aesthetics\, 270 17th St NW\, Suite 100\, Atlanta\, GA 30363\, U
 nited States\n\nTicket Price: Free\n\nGET TICKETS\n\nAbout this Event: Emb
 ark on a transformative journey with the #MUSCLEMATTERS Bus Tour at Inspir
 e Wellness &amp\; Aesthetics! Join us for an immersive experience featurin
 g live demonstrations of the revolutionary EMSculpt NEO and EMSella treatm
 ents. Be prepared for an afternoon of discovery\, exclusive event discount
 s\, exciting giveaways\, and indulgent refreshments.\n\nWorkout Session De
 tail:\n\nDuration: 2 hours\n\nWhat to Expect:\n\nLive demonstrations of EM
 Sculpt NEO and EMSella treatments\n\nExclusive event discounts and package
  pricing\n\nExciting giveaways and raffles\n\nDelicious bites and refreshi
 ng beverages\n\nExclusive after-party from 3:00 PM - 6:00 PM\n\nEssential 
 for Bring:\n\nEnthusiasm for exploring innovative wellness solutions\n\nPa
 rking Option: Parking is available at Inspire Wellness &amp\; Aesthetics\,
  Atlantic Station.\n\nRSVP now to secure your spot and embark on a journey
  to discover the latest in non-surgical body sculpting and wellness soluti
 ons. See you there!\n\n\n\n\n\n\n\n\n\n\n\n\n
ATTACH;FMTTYPE=image/jpeg:https://breatheatlanta.us/wp-content/uploads/202
 4/03/https___cdn.evbuc_.com_images_720599959_2018030294953_1_original.jpeg
CATEGORIES:Wellness Events,Yoga Events
LOCATION:270 17th St NW\, 270 17th Street Northwest Suite 100 Atlanta\, GA 
 30363 United States\, GA\,  United States\,  30363\, GA\, United States
X-APPLE-STRUCTURED-LOCATION;VALUE=URI;X-ADDRESS=270 17th Street Northwest S
 uite 100 Atlanta\, GA 30363 United States\, GA\,  United States\,  30363\,
  GA\, United States;X-APPLE-RADIUS=100;X-TITLE=270 17th St NW:geo:0,0
END:VEVENT
BEGIN:VTIMEZONE
TZID:America/New_York
X-LIC-LOCATION:America/New_York
BEGIN:DAYLIGHT
DTSTART:20240310T030000
TZOFFSETFROM:-0500
TZOFFSETTO:-0400
TZNAME:EDT
END:DAYLIGHT
END:VTIMEZONE
END:VCALENDAR