BEGIN:VCALENDAR
VERSION:2.0
PRODID:-//wp-events-plugin.com//7.2.3.1//EN
TZID:America/New_York
X-WR-TIMEZONE:America/New_York
BEGIN:VEVENT
UID:478@breatheatlanta.us
DTSTART;TZID=America/New_York:20241204T160000
DTEND;TZID=America/New_York:20241204T160000
DTSTAMP:20240925T162220Z
URL:https://breatheatlanta.us/events/national-cookie-day/
SUMMARY:National Cookie Day
DESCRIPTION:The Coweta Public Library invites families to join in a festive
  celebration of National Cookie Day! In this engaging event\, participants
  will have the opportunity to learn the art of decorating cookies with roy
 al icing. This hands-on workshop will allow attendees to create their own 
 beautiful cookie designs\, and at the end of the session\, they can indulg
 e in their delicious creations.\n\nThis event is open to kids aged 6 and u
 p\, making it a perfect outing for families looking to spend quality time 
 together. Parents and guardians are encouraged to call the library in adva
 nce if they have any concerns about food allergies\, ensuring a safe and e
 njoyable experience for everyone.\n\nFor more information about this event
  and other upcoming activities\, visit the Coweta Public Library System’
 s website at www.cowetapubliclibrary.org or check out their Facebook page 
 at www.facebook.com/cowetapubliclibrary.\nEvent Details\n\n 	What: Nationa
 l Cookie Day Cookie Decorating Workshop\n 	Where: Coweta Public Library\n 
 	Who: Children ages 6 and up\n 	When: [Insert date and time of the event]\
 n\nJoin us for a sweet day of creativity\, fun\, and yummy treats!\n\nGET 
 TICKETS\n
ATTACH;FMTTYPE=image/jpeg:https://breatheatlanta.us/wp-content/uploads/202
 4/09/National-Cookie-Day.jpg
CATEGORIES:Food &amp; Drink Events
LOCATION:Jr. Branch Library\, 170 Northside Drive Southwest\, 25 Hospital R
 oad Newnan\, Georgia\, 30263 \, GA\, United States
X-APPLE-STRUCTURED-LOCATION;VALUE=URI;X-ADDRESS=170 Northside Drive Southwe
 st\, 25 Hospital Road Newnan\, Georgia\, 30263 \, GA\, United States;X-APP
 LE-RADIUS=100;X-TITLE=Jr. Branch Library:geo:0,0
END:VEVENT
BEGIN:VTIMEZONE
TZID:America/New_York
X-LIC-LOCATION:America/New_York
BEGIN:STANDARD
DTSTART:20241103T010000
TZOFFSETFROM:-0400
TZOFFSETTO:-0500
TZNAME:EST
END:STANDARD
END:VTIMEZONE
END:VCALENDAR