BEGIN:VCALENDAR
VERSION:2.0
PRODID:-//wp-events-plugin.com//7.2.3.1//EN
TZID:America/New_York
X-WR-TIMEZONE:America/New_York
BEGIN:VEVENT
UID:714@breatheatlanta.us
DTSTART;TZID=America/New_York:20241031T090000
DTEND;TZID=America/New_York:20241103T170000
DTSTAMP:20241025T085232Z
URL:https://breatheatlanta.us/events/native-american-festival-and-pow-wow/
SUMMARY:Native American Festival and Pow Wow
DESCRIPTION:Step into a world of vibrant tradition\, music\, and history at
  the Native American Festival and Pow Wow\, Georgia’s largest gathering 
 celebrating Native American heritage. Hosted over four days in Historic Sq
 uare\, this immersive festival has been honored as a Top 20 Event by the S
 outheast Tourism Society\, offering families and attendees of all ages a w
 indow into the diverse and dynamic cultures of Native American nations fro
 m across the U.S. and Central America.\n\nThe Native American Festival and
  Pow Wow is designed to showcase the depth and beauty of Indigenous cultur
 e through a rich variety of performances\, interactive demonstrations\, an
 d educational displays. Traditional dance competitions take center stage\,
  with inter-tribal dance and drum performances that bring together dancers
  in colorful regalia\, highlighting the importance of rhythm and movement 
 in Native ceremonies. As dancers move to the powerful beats of traditional
  drums\, the festival reverberates with the collective spirit of Native Am
 erican communities.\n\nA dedicated area for craft and primitive skills pro
 vides insight into traditional methods and artistry\, featuring live demon
 strations of flint-knapping\, fire starting\, bow making\, pottery\, and o
 pen-fire cooking. Guests can immerse themselves further by stepping inside
  a tipi and other traditional dwellings\, gaining a unique perspective on 
 Indigenous lifestyles and customs. For families\, a hands-on encampment re
 creates scenes of daily life as lived by Southeastern Native tribes\, givi
 ng both children and adults the chance to understand the historical roots 
 of regional Native American cultures.\n\nThe artist marketplace is an exce
 ptional highlight of the festival\, where renowned Native and Native-inspi
 red artisans showcase hand-crafted pieces. It’s the ideal place to find 
 unique gifts\, as each piece is crafted with skill and deep cultural meani
 ng\, from jewelry and pottery to woven baskets and leatherwork. Artisans a
 lso share the stories and techniques behind their creations\, fostering a 
 deeper appreciation for Indigenous craftsmanship.\n\nWildlife enthusiasts 
 will appreciate the presentations by the American Eagle Foundation\, a non
 profit organization dedicated to conserving the bald eagle and other birds
  of prey. Through live demonstrations and educational talks\, attendees le
 arn about the conservation efforts for these iconic birds and the critical
  role they play in the natural ecosystem.\n\nThe Native American Festival 
 and Pow Wow is more than a cultural event\; it is an opportunity to honor 
 the traditions\, skills\, and resilience of Native American communities. E
 ach day of the festival is a celebration of heritage\, an educational expe
 rience\, and a chance to connect with the rich histories that have shaped 
 our shared landscapes.\n\nGET TICKETS\n
ATTACH;FMTTYPE=image/jpeg:https://breatheatlanta.us/wp-content/uploads/202
 4/10/Native-American-Festival-and-Pow-Wow.webp
CATEGORIES:Things To Do
LOCATION:Historic Square\, John B Gordon Dr\, Stone Mountain\, Atlanta\, Ge
 orgia\, 30087\,  GA\, United States
X-APPLE-STRUCTURED-LOCATION;VALUE=URI;X-ADDRESS=John B Gordon Dr\, Stone Mo
 untain\, Atlanta\, Georgia\, 30087\,  GA\, United States;X-APPLE-RADIUS=10
 0;X-TITLE=Historic Square:geo:0,0
END:VEVENT
BEGIN:VTIMEZONE
TZID:America/New_York
X-LIC-LOCATION:America/New_York
BEGIN:DAYLIGHT
DTSTART:20240310T030000
TZOFFSETFROM:-0500
TZOFFSETTO:-0400
TZNAME:EDT
END:DAYLIGHT
BEGIN:STANDARD
DTSTART:20241103T010000
TZOFFSETFROM:-0400
TZOFFSETTO:-0500
TZNAME:EST
END:STANDARD
END:VTIMEZONE
END:VCALENDAR