BEGIN:VCALENDAR
VERSION:2.0
PRODID:-//wp-events-plugin.com//7.2.3.1//EN
TZID:America/New_York
X-WR-TIMEZONE:America/New_York
BEGIN:VEVENT
UID:386@breatheatlanta.us
DTSTART;TZID=America/New_York:20240717T110000
DTEND;TZID=America/New_York:20240717T123000
DTSTAMP:20240730T192440Z
URL:https://breatheatlanta.us/events/nature-namaste-outdoor-yoga/
SUMMARY:Nature & Namaste Outdoor Yoga
DESCRIPTION:Experience rejuvenation with "Nature &amp\; Namaste: Outdoor Yo
 ga Retreat\," a serene yoga session led by the talented Alanna. Nestled ne
 ar the scenic Grant Park\, this event promises a restorative yoga flow in 
 the heart of nature.\n\nUpon securing your ticket\, you will receive the e
 xact location details. Free street parking is conveniently available. Don'
 t forget to bring your own mat and a water bottle to stay hydrated during 
 the session.\n\nAfter the class\, enjoy light refreshments as you bask in 
 the tranquility of the surroundings. Join us for a morning of mindfulness 
 and connection with nature\, leaving you refreshed and centered. Secure yo
 ur spot today for this revitalizing outdoor yoga experience!\n\nGET TICKET
 S\n
ATTACH;FMTTYPE=image/jpeg:https://breatheatlanta.us/wp-content/uploads/202
 4/07/Nature-Namaste-Outdoor-Yoga.jpg
CATEGORIES:Mindfulness Events,Nature Events,Things To Do,Wellness
 Events,Yoga Events
LOCATION:Grant Park\, Grant Park Atlanta\, Atlanta\, United States\, GA \, 
 United States
X-APPLE-STRUCTURED-LOCATION;VALUE=URI;X-ADDRESS=Grant Park Atlanta\, Atlant
 a\, United States\, GA \, United States;X-APPLE-RADIUS=100;X-TITLE=Grant P
 ark:geo:0,0
END:VEVENT
BEGIN:VTIMEZONE
TZID:America/New_York
X-LIC-LOCATION:America/New_York
BEGIN:DAYLIGHT
DTSTART:20240310T030000
TZOFFSETFROM:-0500
TZOFFSETTO:-0400
TZNAME:EDT
END:DAYLIGHT
END:VTIMEZONE
END:VCALENDAR