BEGIN:VCALENDAR
VERSION:2.0
PRODID:-//wp-events-plugin.com//7.2.3.1//EN
TZID:America/New_York
X-WR-TIMEZONE:America/New_York
BEGIN:VEVENT
UID:35@breatheatlanta.us
DTSTART;TZID=America/New_York:20240511T110000
DTEND;TZID=America/New_York:20240511T160000
DTSTAMP:20240313T094419Z
URL:https://breatheatlanta.us/events/ncbw-mac-2024-annual-health-fair/
SUMMARY:NCBW-MAC 2024 Annual Health Fair
DESCRIPTION:The Metropolitan Atlanta Chapter of The National Coalition of 1
 00 Black Women\, Inc.\, staunchly champions the cause of advocating for th
 e health and well-being of black women and girls. Committed to fostering e
 quity\, leadership\, and empowerment\, our chapter is dedicated to address
 ing the unique healthcare needs and challenges faced by black women and gi
 rls. Through strategic initiatives and collaborative efforts\, we aim to c
 reate a healthier and more equitable future for the individuals we serve.\
 n\nEvent Information:\n\nEvent Name: NCBW-MAC 2024 Annual Health Fair\n\nO
 rganizer: National Coalition of 100 Black Women\, Inc.\, Metropolitan Atla
 nta Chapter (NC100BW - MAC)\n\nDuration: 5 hours\n\nDate and Time: Saturda
 y\, May 11\, 11:00 am - 4:00 pm EDT\n\nLocation: Greenbriar Mall\, 2841 Gr
 eenbriar Pkwy SW\, Atlanta\, GA 30331\, United States\n\nAbout this Event:
  The Metropolitan Atlanta Chapter of The National Coalition of 100 Black W
 omen\, Inc. advocates for black women and girls\, promoting equity and lea
 dership in health\, education\, public policy\, and economic empowerment. 
 The Annual Health Fair extends their health advocacy to the community\, of
 fering free services like health screenings and resources while educating 
 the public on health and wellness.\n\nTicket Information:\n\nTicket Price:
  $150.00\n\n\n\n\nGET TICKETS\n\nRefund Policy: Contact the organizer for 
 refund requests\; Eventbrite's fee is nonrefundable.\n\nWorkout Session De
 tail:\n\nInformation about a workout session is not provided in the conten
 t.\n\nEssentials to Bring:\n\nInformation about essentials to bring is not
  specified in the content.\n\nAdditional Information: The 2024 Annual Heal
 th Fair\, hosted by the National Coalition of 100 Black Women\, Inc.\, Met
 ropolitan Atlanta Chapter\, aims to empower the community through various 
 key elements:\n\nCommunity Engagement and Collaboration:\n\nFoster collabo
 ration among individuals\, local organizations\, and healthcare providers.
 \n\nHighlight the importance of collective efforts in promoting health equ
 ity and well-being.\n\nSelf-Advocacy Skills Development:\n\nOffer interact
 ive workshops on effective communication with healthcare providers and nav
 igating the healthcare system.\n\nEmpower attendees to advocate for their 
 personal health needs.\n\nComprehensive Health Screenings and Resources:\n
 \nProvide free and comprehensive health screenings.\n\nShowcase community 
 vendor resources\, including local healthcare organizations and wellness p
 rograms.\n\nIncentives for Participation:\n\nOffer incentives like gift ca
 rds\, prize drawings\, and giveaways to encourage attendance and active pa
 rticipation.\n\nEducation on Health and Wellness:\n\nConduct informative s
 essions on relevant health and wellness topics.\n\nDistribute educational 
 materials to empower individuals with knowledge about their well-being.\n\
 nCultivate a Supportive Advocating Environment:\n\nEmphasize creating a su
 pportive environment where individuals feel comfortable advocating for the
 ir health.\n\nFoster connections and networks that promote ongoing health-
 related dialogue and collaboration.\n\nBy focusing on these key elements\,
  the 2024 health fair seeks to inspire positive lifestyle changes\, streng
 then community ties\, and foster a resilient and united community dedicate
 d to well-being.
ATTACH;FMTTYPE=image/jpeg:https://breatheatlanta.us/wp-content/uploads/202
 4/03/https___cdn.evbuc_.com_images_703114539_175951720340_1_original.jpeg
CATEGORIES:Wellness Events
LOCATION:Greenbriar Mall\, 2841 Greenbriar Pkwy SW Atlanta\, GA 30331 Unite
 d States\, GA\, United States \, 30331\, GA\, United States
X-APPLE-STRUCTURED-LOCATION;VALUE=URI;X-ADDRESS=2841 Greenbriar Pkwy SW Atl
 anta\, GA 30331 United States\, GA\, United States \, 30331\, GA\, United 
 States;X-APPLE-RADIUS=100;X-TITLE=Greenbriar Mall:geo:0,0
END:VEVENT
BEGIN:VTIMEZONE
TZID:America/New_York
X-LIC-LOCATION:America/New_York
BEGIN:DAYLIGHT
DTSTART:20240310T030000
TZOFFSETFROM:-0500
TZOFFSETTO:-0400
TZNAME:EDT
END:DAYLIGHT
END:VTIMEZONE
END:VCALENDAR