BEGIN:VCALENDAR
VERSION:2.0
PRODID:-//wp-events-plugin.com//7.2.3.1//EN
TZID:America/New_York
X-WR-TIMEZONE:America/New_York
BEGIN:VEVENT
UID:702@breatheatlanta.us
DTSTART;TZID=America/New_York:20241130T103000
DTEND;TZID=America/New_York:20241130T143000
DTSTAMP:20241024T174433Z
URL:https://breatheatlanta.us/events/negative-to-positive-love-legacy/
SUMMARY:Negative to Positive: Love & Legacy
DESCRIPTION:Men aged 16 and above are invited to attend an inspiring event 
 led by renowned speaker and author\, Paul Posey. In this powerful session\
 , Paul Posey will provide a supportive environment for men to confront dys
 functional thinking and behaviors that may be holding them back\, with the
  goal of fostering healing and emotional wellness.\n\nThe event will featu
 re dynamic speaking engagements\, interactive discussions\, and thought-pr
 ovoking activities\, along with breakout sessions designed to dive deeper 
 into personal development and growth. Participants will have the opportuni
 ty to engage in meaningful conversations\, explore positive transformation
 s\, and learn practical tools for improving mental and emotional health.\n
 \nAs part of this enriching experience\, light refreshments will be provid
 ed to ensure a comfortable and welcoming atmosphere. Attendees are encoura
 ged to come with an open mind\, ready to reflect and participate in this t
 ransformative journey.\n\nBy the end of the event\, participants will leav
 e feeling empowered\, uplifted\, and ready to embrace a new mindset\, carr
 ying with them a stronger sense of love and legacy. This is more than just
  a gathering—it's a space for change\, healing\, and growth.\n\nEvent Hi
 ghlights:\n\n 	Dynamic speaking by Paul Posey\n 	Interactive discussions a
 nd activities\n 	Breakout sessions for deeper engagement\n 	Light refreshm
 ents provided\n\nPrepare to leave transformed and with a renewed sense of 
 purpose.\n\nGET TICKETS\n
ATTACH;FMTTYPE=image/jpeg:https://breatheatlanta.us/wp-content/uploads/202
 4/10/Negative-to-Positive-Love-Legacy.jpeg
CATEGORIES:Mindfulness Events
LOCATION:DeKalb County Public Library\, 2418 Gresham Road\, South East Atla
 nta\, Atlanta\, 30316\, GA\, United States
X-APPLE-STRUCTURED-LOCATION;VALUE=URI;X-ADDRESS=2418 Gresham Road\, South E
 ast Atlanta\, Atlanta\, 30316\, GA\, United States;X-APPLE-RADIUS=100;X-TI
 TLE=DeKalb County Public Library:geo:0,0
END:VEVENT
BEGIN:VTIMEZONE
TZID:America/New_York
X-LIC-LOCATION:America/New_York
BEGIN:STANDARD
DTSTART:20241103T010000
TZOFFSETFROM:-0400
TZOFFSETTO:-0500
TZNAME:EST
END:STANDARD
END:VTIMEZONE
END:VCALENDAR