BEGIN:VCALENDAR
VERSION:2.0
PRODID:-//wp-events-plugin.com//7.2.3.1//EN
TZID:America/New_York
X-WR-TIMEZONE:America/New_York
BEGIN:VEVENT
UID:259@breatheatlanta.us
DTSTART;TZID=America/New_York:20240510T190000
DTEND;TZID=America/New_York:20240510T210000
DTSTAMP:20240422T133744Z
URL:https://breatheatlanta.us/events/new-moon-circle-another-kind-of-frida
 y/
SUMMARY:New Moon Circle! Another Kind of Friday.
DESCRIPTION:\nFind Connection &amp\; Support: Monthly Community Circle\nSee
 king a supportive space to connect with others and explore your inner worl
 d? Join our monthly Community Circle!\nEmbrace Connection &amp\; Growth:\n
 This monthly gathering fosters a sense of community and belonging. We come
  together to share our experiences\, hopes\, and dreams in a safe and supp
 ortive environment.\nOpen Your Heart &amp\; Explore:\n\n\n 	Meaningful Con
 versations: Engage in genuine discussions about life's joys and challenges
 .\n 	Intention Setting: Craft powerful intentions to guide your journey in
  the new month.\n 	Emotional Exploration: Feel free to express yourself op
 enly\, with laughter\, tears\, or anything in between.\n\nA Space for You:
 \nThis sacred space is free from judgment\, allowing you to be your authen
 tic self. It's a place to find comfort\, support\, and inspiration as you 
 navigate life's journey.\nJoin Us!\nAre you ready to connect with like-min
 ded individuals and explore the possibilities that await? Come join our mo
 nthly Community Circle and embark on a journey of self-discovery and share
 d experience.\nWhat to Expect:\n\n\n 	Warm Welcome: We greet each particip
 ant with open hearts and a welcoming atmosphere.\n 	Guided Meditation: Sta
 rt the evening with a calming meditation to center yourself.\n 	Open Shari
 ng: Participate in group discussions or simply listen and connect with oth
 ers.\n 	Intention Setting Ceremony: Collectively set intentions to guide y
 our journey in the coming month.\n 	Closing Circle: End the gathering with
  a sense of peace and renewed connection.\n\nThis is your invitation to st
 ep into a supportive community and share the richness of your being. We lo
 ok forward to meeting you!\n\n\n\nBUY TICKETS\n
ATTACH;FMTTYPE=image/jpeg:https://breatheatlanta.us/wp-content/uploads/202
 4/04/https___cdn.evbuc_.com_images_563002949_756517409193_1_original.jpeg
CATEGORIES:Wellness Events
LOCATION:Energy Works ATL\, 1215 Hightower Trail Building D\, Suite 101 Atl
 anta\, GA 30350\, Atlanta\, GA\, 30350\, GA\, United States
X-APPLE-STRUCTURED-LOCATION;VALUE=URI;X-ADDRESS=1215 Hightower Trail Buildi
 ng D\, Suite 101 Atlanta\, GA 30350\, Atlanta\, GA\, 30350\, GA\, United S
 tates;X-APPLE-RADIUS=100;X-TITLE=Energy Works ATL:geo:0,0
END:VEVENT
BEGIN:VTIMEZONE
TZID:America/New_York
X-LIC-LOCATION:America/New_York
BEGIN:DAYLIGHT
DTSTART:20240310T030000
TZOFFSETFROM:-0500
TZOFFSETTO:-0400
TZNAME:EDT
END:DAYLIGHT
END:VTIMEZONE
END:VCALENDAR