BEGIN:VCALENDAR
VERSION:2.0
PRODID:-//wp-events-plugin.com//7.2.3.1//EN
TZID:America/New_York
X-WR-TIMEZONE:America/New_York
BEGIN:VEVENT
UID:361@breatheatlanta.us
DTSTART;TZID=America/New_York:20240717T220000
DTEND;TZID=America/New_York:20240718T030000
DTSTAMP:20240730T063639Z
URL:https://breatheatlanta.us/events/nora-en-pure/
SUMMARY:NORA EN PURE
DESCRIPTION:Prepare for an extraordinary musical journey on Saturday\, Augu
 st 17th\, 2024\, as the acclaimed South African-Swiss DJ Nora En Pure take
 s the stage for a one-night-only performance in the heart of Atlanta. This
  exclusive event promises to be a standout highlight of the summer's music
  scene.\n\nA Journey Through Mesmerizing Melodies\n\nNora En Pure is celeb
 rated for her unique ability to blend classical instrumentation with elect
 ronic beats\, creating a soundscape that is both ethereal and uplifting. S
 ince her breakthrough hit "Come With Me" in 2013\, she has captivated audi
 ences worldwide with her enchanting deep house melodies. Her performances 
 are renowned for their ability to transport listeners to a realm of pure m
 usical bliss.\n\nThe Ultimate Venue for a Sonic Experience\n\nThe event wi
 ll be hosted at District Atlanta\, a premier venue known for its cutting-e
 dge sound system\, expansive dance floor\, and immersive lighting setup. D
 istrict Atlanta's reputation for showcasing top-tier electronic music acts
  makes it the perfect venue for Nora En Pure's performance\, ensuring an u
 nforgettable night of dancing and musical enjoyment.\n\nEvent Highlights\n
 \n 	Electrifying Performance: Nora En Pure will deliver a captivating set 
 featuring her signature deep house sounds\, promising an evening of dance 
 and musical enchantment.\n 	State-of-the-Art Sound &amp\; Lighting: Distri
 ct Atlanta's advanced sound system and dynamic lighting will enhance the o
 verall experience\, creating a vibrant and immersive atmosphere.\n 	Unforg
 ettable Atmosphere: With its reputation for hosting some of the biggest na
 mes in electronic music\, District Atlanta provides the ideal backdrop for
  Nora En Pure's mesmerizing performance.\n\nDon't Miss Out\n\nThis is your
  chance to experience Nora En Pure's magical sound in one of Atlanta's mos
 t celebrated venues. Whether you're a long-time fan or new to her music\, 
 this event is set to be a night of unforgettable moments and exhilarating 
 beats.\n\nSecure your tickets now and get ready to immerse yourself in the
  spellbinding world of Nora En Pure at District Atlanta.\n\nGET TICKETS\n
ATTACH;FMTTYPE=image/jpeg:https://breatheatlanta.us/wp-content/uploads/202
 4/07/NORA-EN-PURE.jpg
CATEGORIES:Arts &amp; Performances,Things To Do
LOCATION:District Atlanta\, 269 Armour Drive Northeast Atlanta\, Atlanta\, 
 Georgia\, 30324\, GA \, United States
X-APPLE-STRUCTURED-LOCATION;VALUE=URI;X-ADDRESS=269 Armour Drive Northeast 
 Atlanta\, Atlanta\, Georgia\, 30324\, GA \, United States;X-APPLE-RADIUS=1
 00;X-TITLE=District Atlanta:geo:0,0
END:VEVENT
BEGIN:VTIMEZONE
TZID:America/New_York
X-LIC-LOCATION:America/New_York
BEGIN:DAYLIGHT
DTSTART:20240310T030000
TZOFFSETFROM:-0500
TZOFFSETTO:-0400
TZNAME:EDT
END:DAYLIGHT
END:VTIMEZONE
END:VCALENDAR