BEGIN:VCALENDAR
VERSION:2.0
PRODID:-//wp-events-plugin.com//7.2.3.1//EN
TZID:America/New_York
X-WR-TIMEZONE:America/New_York
BEGIN:VEVENT
UID:621@breatheatlanta.us
DTSTART;TZID=America/New_York:20241115T190000
DTEND;TZID=America/New_York:20241115T200000
DTSTAMP:20241013T140056Z
URL:https://breatheatlanta.us/events/november-full-moon-sound-bath-session
 -with-queen-yenn/
SUMMARY:November Full Moon Sound Bath Session with Queen Yenn
DESCRIPTION:November Full Moon Sound Bath Session with Queen Yenn\n\nRegist
 er now to save on fees and secure your spot in this transformative event.\
 n\nJoin Queen Yenn for a deeply rejuvenating sound bath session\, where th
 e healing vibrations of sound blend harmoniously with the calming power of
  Reiki. This immersive experience is designed to guide participants throug
 h a journey of relaxation\, renewal\, and inner harmony.\n\nIn this sessio
 n\, you'll experience the gentle\, yet powerful energy of Reiki\, which pr
 omotes deep relaxation and helps restore physical\, emotional\, and spirit
 ual balance. As the resonant frequencies of carefully curated instruments 
 wash over you\, stress and tension will melt away\, leaving you feeling re
 stored and revitalized.\n\nSpaces are limited\, so early registration is e
 ncouraged to ensure you don't miss out on this unique opportunity for heal
 ing and tranquility. Reserve your spot today\, and prepare to embark on a 
 journey of peace\, renewal\, and personal transformation.\n\nQueen Yenn lo
 oks forward to sharing this extraordinary experience with you!\n\nRegister
  now and save on fees.\n\nGET TICKETS\n
ATTACH;FMTTYPE=image/jpeg:https://breatheatlanta.us/wp-content/uploads/202
 4/10/November-Full-Moon-Sound-Bath-Session-with-Queen-Yenn.jpeg
CATEGORIES:Wellness Events
LOCATION:Oyun Botanical Gardens (also Oyun Ministries & Marketplace)\, 3353
  Washington Road\,  East Point\, Georgia\, 30344\, GA\, United States
X-APPLE-STRUCTURED-LOCATION;VALUE=URI;X-ADDRESS=3353 Washington Road\,  Eas
 t Point\, Georgia\, 30344\, GA\, United States;X-APPLE-RADIUS=100;X-TITLE=
 Oyun Botanical Gardens (also Oyun Ministries & Marketplace):geo:0,0
END:VEVENT
BEGIN:VTIMEZONE
TZID:America/New_York
X-LIC-LOCATION:America/New_York
BEGIN:STANDARD
DTSTART:20241103T010000
TZOFFSETFROM:-0400
TZOFFSETTO:-0500
TZNAME:EST
END:STANDARD
END:VTIMEZONE
END:VCALENDAR