BEGIN:VCALENDAR
VERSION:2.0
PRODID:-//wp-events-plugin.com//7.2.3.1//EN
TZID:America/New_York
X-WR-TIMEZONE:America/New_York
BEGIN:VEVENT
UID:385@breatheatlanta.us
DTSTART;TZID=America/New_York:20240815T160000
DTEND;TZID=America/New_York:20240815T200000
DTSTAMP:20240730T190730Z
URL:https://breatheatlanta.us/events/nurses-spa-day/
SUMMARY:Nurse's Spa Day
DESCRIPTION:Join us for a special Nurse's Spa Retreat at the Beauty Bar\, a
 n exclusive event dedicated to celebrating and pampering our hardworking n
 urses. This rejuvenating experience offers a perfect blend of relaxation\,
  beauty treatments\, and insightful presentations.\n\nIndulge in discounte
 d Botox treatments at just $10 per unit\, provided by the skilled Chantel.
  Enjoy soothing massages from Jamina with Remarkable Touch for only $25 pe
 r session. As you unwind\, sip on complimentary champagne and savor delici
 ous charcuterie.\n\nAdding to the day's allure\, Dr. Kyle Summers from Sou
 thern Surgical Arts will be available for complimentary cosmetic surgery c
 onsultations\, offering personalized advice and expert insights.\n\nThe ev
 ent will also feature a powerful presentation by Angie Ulibarri\, Executiv
 e Director of the Georgia Festival of Trees. Angie will share a clear-eyed
  perspective on the fight against the trafficking of women and children in
  our community. Hear the inspiring story of Jessica Lamb and her organizat
 ion\, Atlanta Redemption Ink\, and learn about their incredible work in th
 is vital cause.\n\nDon’t miss this opportunity to relax\, rejuvenate\, a
 nd empower yourself with valuable knowledge and connections. Reserve your 
 spot today for an unforgettable day of pampering and inspiration!\n\nGET T
 ICKETS\n
ATTACH;FMTTYPE=image/jpeg:https://breatheatlanta.us/wp-content/uploads/202
 4/07/Nurses-Spa-Day.jpg
CATEGORIES:Mindfulness Events,Things To Do,Wellness Events
LOCATION:6115 Peachtree Dunwoody Rd suite 125\, 6115 Peachtree Dunwoody Roa
 d #suite 125\, Atlanta\, GA\, 30342\, GA\, United States
X-APPLE-STRUCTURED-LOCATION;VALUE=URI;X-ADDRESS=6115 Peachtree Dunwoody Roa
 d #suite 125\, Atlanta\, GA\, 30342\, GA\, United States;X-APPLE-RADIUS=10
 0;X-TITLE=6115 Peachtree Dunwoody Rd suite 125:geo:0,0
END:VEVENT
BEGIN:VTIMEZONE
TZID:America/New_York
X-LIC-LOCATION:America/New_York
BEGIN:DAYLIGHT
DTSTART:20240310T030000
TZOFFSETFROM:-0500
TZOFFSETTO:-0400
TZNAME:EDT
END:DAYLIGHT
END:VTIMEZONE
END:VCALENDAR