BEGIN:VCALENDAR
VERSION:2.0
PRODID:-//wp-events-plugin.com//7.2.3.1//EN
TZID:America/New_York
X-WR-TIMEZONE:America/New_York
BEGIN:VEVENT
UID:654@breatheatlanta.us
DTSTART;TZID=America/New_York:20241022T180000
DTEND;TZID=America/New_York:20241023T200000
DTSTAMP:20241018T085028Z
URL:https://breatheatlanta.us/events/october-womens-new-to-firearms-class/
SUMMARY:October Women's New to Firearms Class
DESCRIPTION:In today’s world\, personal protection is more important than
  ever\, particularly for women. Five years ago\, after experiencing a home
  invasion\, one woman felt the profound impact of vulnerability and violat
 ion. This life-altering event inspired her to take control of her safety a
 nd empower others to do the same. As a result\, she dedicated herself to t
 raining and supporting women as the chapter leader of a Women's Gun Club a
 nd is now proudly leading the Atlanta Chapter of A Girl And A Gun.\n\nAs a
 n NRA Certified Basic Pistol Instructor with Firearms\, LLC\, she is commi
 tted to providing private lessons and classes tailored specifically for wo
 men. Her passion lies in educating women about firearms\, emphasizing gun 
 safety\, and navigating conceal and carry laws.\n\nThis New to Firearms Cl
 ass is designed for those who may feel apprehensive about guns\, have neve
 r visited a gun range\, or simply wish to enhance their knowledge of safe 
 gun handling. Enrolling in this comprehensive class for just $150 includes
 :\n\n 	Four hours of in-depth instructional content\n 	Private access to a
  gun range\n 	Coverage of the range rental fee\n 	Hands-on shooting practi
 ce with various semiautomatic handguns\n 	Provision of eye and ear protect
 ion\n 	Targets for practice\n 	Ammunition for shooting sessions\n\nThis cl
 ass not only aims to equip women with essential firearm knowledge but also
  seeks to foster a sense of empowerment and confidence. By participating\,
  women can learn how to handle firearms safely and responsibly\, ultimatel
 y transforming perceived fears into newfound skills.\n\nGET TICKETS\n
ATTACH;FMTTYPE=image/jpeg:https://breatheatlanta.us/wp-content/uploads/202
 4/10/October-Womens-New-to-Firearms-Class.jpg
CATEGORIES:Things To Do
LOCATION:Quick Shot Shooting Range\, 1199 Zonolite Road \, Atlanta\, Georgi
 a\, 30306\, GA\, United States
X-APPLE-STRUCTURED-LOCATION;VALUE=URI;X-ADDRESS=1199 Zonolite Road \, Atlan
 ta\, Georgia\, 30306\, GA\, United States;X-APPLE-RADIUS=100;X-TITLE=Quick
  Shot Shooting Range:geo:0,0
END:VEVENT
BEGIN:VTIMEZONE
TZID:America/New_York
X-LIC-LOCATION:America/New_York
BEGIN:DAYLIGHT
DTSTART:20240310T030000
TZOFFSETFROM:-0500
TZOFFSETTO:-0400
TZNAME:EDT
END:DAYLIGHT
END:VTIMEZONE
END:VCALENDAR