BEGIN:VCALENDAR
VERSION:2.0
PRODID:-//wp-events-plugin.com//7.2.3.1//EN
TZID:America/New_York
X-WR-TIMEZONE:America/New_York
BEGIN:VEVENT
UID:656@breatheatlanta.us
DTSTART;TZID=America/New_York:20241025T200000
DTEND;TZID=America/New_York:20241026T000000
DTSTAMP:20241018T090204Z
URL:https://breatheatlanta.us/events/one-halloween-night-at-the-hell-hotel
 -a-spooky-burlesque-and-sing-a-long/
SUMMARY:One Halloween Night at the Hell Hotel : A Spooky Burlesque and Sing
 -a-long
DESCRIPTION:As Halloween approaches\, the excitement in the air becomes pal
 pable\, heralding the return of an unforgettable event! On October 25th\, 
 the Hell Hotel will once again swing open its doors at The Pigalle\, invit
 ing revelers to immerse themselves in an evening filled with spine-chillin
 g entertainment and enchanting surprises.\n\nThis year\, the venue is set 
 to come alive as the charismatic Radio Demon\, Alastor\, takes center stag
 e\, persuading Charlie that the hotel is in dire need of live entertainmen
 t. Who better to deliver this thrilling experience than the eccentric resi
 dents of the hotel themselves?\n\nAttendees can anticipate an evening brim
 ming with musical chaos and playful antics\, as this fan-driven theatrical
  burlesque show transforms into a fever dream of vibrant performances. The
  lineup boasts an array of talented performers\, each embodying their belo
 ved characters from the lore\, including:\n\n 	Jessica Nova as The Radio D
 emon\n 	Cherry Bonbon as Angel Dust\n 	Ruana Rae as Vaggie\n 	Spicy Meatba
 ll as Charlie\n 	Caspia as Husk\n 	Rockabilly Roxie as Rosie\n 	Anne Hart 
 as Niffty\n 	Hippie Hart as Vox\n\nCostumes and cosplay are highly encoura
 ged\, adding to the immersive atmosphere of the event. Attendees are remin
 ded to show their appreciation for the tantalizing performances by tipping
  the demonic dancers and dastardly bartenders\, ensuring a lively exchange
  of energy throughout the night.\n\nPrepare for an enchanting and slightly
  wicked evening at the Hell Hotel\, where frightful fun and theatricality 
 await!\n\nGET TICKETS\n
ATTACH;FMTTYPE=image/jpeg:https://breatheatlanta.us/wp-content/uploads/202
 4/10/One-Halloween-Night-at-the-Hell-Hotel-A-Spooky-Burlesque-and-Sing-a-l
 ong.jpg
CATEGORIES:Arts &amp; Performances,Things To Do
LOCATION:Underground Atlanta\, 50 Upper Alabama Street Atlanta\, Atlanta\, 
 Georgia\, 30303\,  GA\, United States
X-APPLE-STRUCTURED-LOCATION;VALUE=URI;X-ADDRESS=50 Upper Alabama Street Atl
 anta\, Atlanta\, Georgia\, 30303\,  GA\, United States;X-APPLE-RADIUS=100;
 X-TITLE=Underground Atlanta:geo:0,0
END:VEVENT
BEGIN:VTIMEZONE
TZID:America/New_York
X-LIC-LOCATION:America/New_York
BEGIN:DAYLIGHT
DTSTART:20240310T030000
TZOFFSETFROM:-0500
TZOFFSETTO:-0400
TZNAME:EDT
END:DAYLIGHT
END:VTIMEZONE
END:VCALENDAR