BEGIN:VCALENDAR
VERSION:2.0
PRODID:-//wp-events-plugin.com//7.2.3.1//EN
TZID:America/New_York
X-WR-TIMEZONE:America/New_York
BEGIN:VEVENT
UID:314@breatheatlanta.us
DTSTART;TZID=America/New_York:20240714T121500
DTEND;TZID=America/New_York:20240714T131500
DTSTAMP:20240626T193659Z
URL:https://breatheatlanta.us/events/onlyoga-x-atlanta-asweatlife-meditati
 ve-yoga-class/
SUMMARY:onlYoga x Atlanta aSweatlife Meditative Yoga Class
DESCRIPTION:Experience tranquility and inner peace at the onlYoga x Atlanta
  aSweatlife Meditative Yoga Class. Held at our studio in Atlanta\, this in
 -person event offers a rejuvenating opportunity to connect with yourself t
 hrough guided meditative yoga. Take a break from the daily hustle and trea
 t yourself to a moment of relaxation and mindfulness.\n\nEvent Details:\n\
 n 	Location: The event takes place at our studio in Atlanta\, providing a 
 serene and welcoming space for participants to unwind and rejuvenate.\n 	G
 uided Meditation: Experienced instructors will lead participants through a
  series of yoga poses and breathing exercises aimed at promoting mindfulne
 ss and tranquility.\n 	Post-Session Refreshments: After the yoga session\,
  enjoy post-workout drinks and snacks provided by our brand partners\, inc
 luding Boxed Water\, Chomps\, Astura\, Lil Buck Granola\, and more.\n\nBen
 efits of Attending:\n\n 	Mindful Relaxation: Engage in practices that help
  calm the mind and reduce stress\, fostering a sense of inner peace and tr
 anquility.\n 	Physical Well-being: Yoga poses and breathing exercises prom
 ote flexibility\, strength\, and overall physical well-being.\n 	Community
  Connection: Connect with like-minded individuals in a supportive and nurt
 uring environment.\n\nWhy Attend?\n\n 	Nourish Body and Soul: Treat yourse
 lf to a moment of self-care and relaxation. This event provides the perfec
 t opportunity to recharge and rejuvenate.\n 	Expert Guidance: Benefit from
  the expertise of experienced instructors who will guide you through the p
 ractice with care and attention.\n 	Post-Session Refreshments: Enjoy compl
 imentary post-workout drinks and snacks from our brand partners\, adding t
 o the overall experience of relaxation and wellness.\n\nDon't miss out on 
 this chance to nourish your body and soul. Reserve your spot today and joi
 n us for an unforgettable meditative yoga experience. We look forward to w
 elcoming you to onlYoga x Atlanta aSweatlife Meditative Yoga Class.\n\nGET
  TICKETS\n
ATTACH;FMTTYPE=image/jpeg:https://breatheatlanta.us/wp-content/uploads/202
 4/06/onlYoga-x-Atlanta-aSweatlife-Meditative-Yoga-Class.jpg
CATEGORIES:Nature Events,Wellness Events,Yoga Events
LOCATION:onlYoga\, 1201 Peachtree Street Northeast #110 Atlanta\, Atlanta\,
  United States\, 30309\, GA \, United States
X-APPLE-STRUCTURED-LOCATION;VALUE=URI;X-ADDRESS=1201 Peachtree Street North
 east #110 Atlanta\, Atlanta\, United States\, 30309\, GA \, United States;
 X-APPLE-RADIUS=100;X-TITLE=onlYoga:geo:0,0
END:VEVENT
BEGIN:VTIMEZONE
TZID:America/New_York
X-LIC-LOCATION:America/New_York
BEGIN:DAYLIGHT
DTSTART:20240310T030000
TZOFFSETFROM:-0500
TZOFFSETTO:-0400
TZNAME:EDT
END:DAYLIGHT
END:VTIMEZONE
END:VCALENDAR