BEGIN:VCALENDAR
VERSION:2.0
PRODID:-//wp-events-plugin.com//7.2.3.1//EN
TZID:America/New_York
X-WR-TIMEZONE:America/New_York
BEGIN:VEVENT
UID:584@breatheatlanta.us
DTSTART;TZID=America/New_York:20241101T130000
DTEND;TZID=America/New_York:20241101T150000
DTSTAMP:20241009T142528Z
URL:https://breatheatlanta.us/events/open-studio-for-everyone-paint-and-si
 p-by-classpop/
SUMMARY:Open Studio for Everyone - Paint and Sip by Classpop!™
DESCRIPTION:Experience a delightful blend of creativity and relaxation with
  "Open Studio for Everyone\," a paint and sip class offered by Classpop!
 ™. Led by the talented Instructor Alannah\, this engaging event invites 
 participants of all skill levels—whether beginners or seasoned painters
 —to immerse themselves in the world of art.\n\nDuring this imaginative s
 ession\, attendees will have the opportunity to explore a variety of capti
 vating mediums and brushstroke techniques\, all while enjoying the social 
 atmosphere of a paint and sip environment. Under the expert guidance of Al
 annah\, participants will create their own unique works of art\, gaining v
 aluable insights and skills along the way.\n\nClasspop!™ prides itself o
 n providing an array of fun and creative classes\, including dance\, potte
 ry\, painting\, and more\, all taught by world-class instructors in relaxe
 d settings. This approach not only encourages learning and creativity but 
 also fosters a sense of community among participants.\n\nWhether you’re 
 looking to refine your painting skills or simply want to unwind with frien
 ds\, booking a class with Classpop!™ is a perfect way to get inspired an
 d express your artistic side. For more details and upcoming dates\, visit 
 the "Open Studio for Everyone" page and embark on a colorful journey of se
 lf-expression!\n\nGET TICKETS\n
ATTACH;FMTTYPE=image/jpeg:https://breatheatlanta.us/wp-content/uploads/202
 4/10/Open-Studio-for-Everyone-Paint-and-Sip-by-Classpop™.jpeg
CATEGORIES:Wellness Events
LOCATION:Dine and Design ATL\, 553 Amsterdam Ave NE Suite 3 Atlanta\, Atlan
 ta\, Atlanta\, 30306\, GA\, United States
X-APPLE-STRUCTURED-LOCATION;VALUE=URI;X-ADDRESS=553 Amsterdam Ave NE Suite 
 3 Atlanta\, Atlanta\, Atlanta\, 30306\, GA\, United States;X-APPLE-RADIUS=
 100;X-TITLE=Dine and Design ATL:geo:0,0
END:VEVENT
BEGIN:VTIMEZONE
TZID:America/New_York
X-LIC-LOCATION:America/New_York
BEGIN:DAYLIGHT
DTSTART:20240310T030000
TZOFFSETFROM:-0500
TZOFFSETTO:-0400
TZNAME:EDT
END:DAYLIGHT
END:VTIMEZONE
END:VCALENDAR