BEGIN:VCALENDAR
VERSION:2.0
PRODID:-//wp-events-plugin.com//7.2.3.1//EN
TZID:America/New_York
X-WR-TIMEZONE:America/New_York
BEGIN:VEVENT
UID:174@breatheatlanta.us
DTSTART;TZID=America/New_York:20240430T093000
DTEND;TZID=America/New_York:20240430T103000
DTSTAMP:20240328T101126Z
URL:https://breatheatlanta.us/events/outfit-training-grand-opening-of-kesw
 ick-park/
SUMMARY:OUTFIT TRAINING GRAND OPENING OF KESWICK PARK!
DESCRIPTION:Welcome to what promises to be THE BEST OUTDOOR WORKOUT OF YOUR
  LIFE.\n\nEvent Information:\n\nEvent: OUTFIT TRAINING GRAND OPENING OF KE
 SWICK PARK!\n\nHost: OutFit Training ATL\n\nDate and Time: Tuesday\, Apri
 l 30\, 9:30 - 10:30 AM EDT.\n\nLocation: Keswick Park\, 3496 Keswick Drive
 \, Chamblee\, GA 30341\, United States\n\nTicket Information:\n\nTicket Pr
 ice: Free\n\nGET TICKETS\n\n\n\nAbout this Event: The grand opening of Kes
 wick Park with Outfit Training! This exciting event promises an hour fille
 d with fun and fitness\, where you'll sweat\, laugh\, and challenge yourse
 lf to new limits alongside our team of experienced trainers. Whether you'r
 e a beginner or a fitness enthusiast\, this event is tailored for everyone
  ready to kickstart their health journey.\n\nWorkout Session Detail: Outfi
 t Training offers innovative outdoor mobile fitness services\, providing e
 xpertly led functional training bootcamp classes. All products used in Out
 fit Training are from TRX\, the leading functional training brand globally
 . A dynamic workout experience that combines cutting-edge techniques with 
 the beauty of outdoor training.\n\nEssentials to Bring: Bring your workout
  attire\, a water bottle\, and a positive mindset ready to embrace the cha
 llenges and rewards of outdoor fitness.\n\nParking Option: Specific parkin
 g information for Keswick Park is not provided. Please check local parking
  availability near the event location.\n\nNote: First-time participants re
 ceive their first workout for free\, and for a limited time\, you can enjo
 y unlimited access for 30 days for only $19.95! Municipal First Responders
  receive free unlimited membership for themselves and their families.\n\n
ATTACH;FMTTYPE=image/jpeg:https://breatheatlanta.us/wp-content/uploads/202
 4/03/https___cdn.evbuc_.com_images_700301009_1802658794293_1_original-1.jp
 eg
CATEGORIES:Wellness Events,Yoga Events
LOCATION:Keswick Park\, 3496 Keswick Drive Chamblee\,\,  GA \, United State
 s\,  30341\, GA\, United States
X-APPLE-STRUCTURED-LOCATION;VALUE=URI;X-ADDRESS=3496 Keswick Drive Chamblee
 \,\,  GA \, United States\,  30341\, GA\, United States;X-APPLE-RADIUS=100
 ;X-TITLE=Keswick Park:geo:0,0
END:VEVENT
BEGIN:VTIMEZONE
TZID:America/New_York
X-LIC-LOCATION:America/New_York
BEGIN:DAYLIGHT
DTSTART:20240310T030000
TZOFFSETFROM:-0500
TZOFFSETTO:-0400
TZNAME:EDT
END:DAYLIGHT
END:VTIMEZONE
END:VCALENDAR