BEGIN:VCALENDAR
VERSION:2.0
PRODID:-//wp-events-plugin.com//7.2.3.1//EN
TZID:America/New_York
X-WR-TIMEZONE:America/New_York
BEGIN:VEVENT
UID:748@breatheatlanta.us
DTSTART;TZID=America/New_York:20250313T093000
DTEND;TZID=America/New_York:20250313T190000
DTSTAMP:20241225T204255Z
URL:https://breatheatlanta.us/events/padel-playhouse-atlanta/
SUMMARY:Padel Playhouse Atlanta
DESCRIPTION:Join the movement. Celebrate elegance\, vitality\, and communit
 y through the sport of padel.\n\n\nOne Day. Endless Experiences.\nFrom cel
 ebrity matches to health and wellness\, this is more than an event—it’
 s a lifestyle celebration.\n\nStep into the Padel Playhouse\, the premier
  series redefining how the world experiences the fastest-growing sport. Br
 eathe Media has been at the forefront of Padel’s explosive rise in the U
 .S.\, launching unforgettable events in Miami that brought together global
  stars\, top creators\, and cultural innovators. Now\, it’s Atlanta’s 
 turn to join the movement.\nEvent Highlights\nWhy Attend Padel Playhouse A
 tlanta?\n\n 	Breathe Media’s Legacy in Padel: From Miami to LA to Atlant
 a\, Breathe Media’s Padel Playhouse series has connected the sport’s t
 op global players with forward-thinking creatives\, entrepreneurs\, and in
 fluencers. Experience firsthand why Padel is becoming the go-to sport for 
 visionaries.\n 	Celebrity Pro-Am Tournament: Featuring Robin Thicke\, Kell
 y Stafford\, Ana Cortilles\, and more.\n 	Health &amp\; Wellness Marketpla
 ce: Discover cutting-edge therapies\, local produce\, and gourmet food tru
 cks.\n 	Fan Challenges: Test your skills against the pros and win exclusiv
 e prizes.\n 	Top DJ Performance: Groove to beats by  DJ during our sunse
 t party.\n\nTicket Tiers\n1. General Admission (Standing Room)\nPrice: $50
  per ticket\nInclusions:\n\n 	Access to the event grounds\, including the 
 Health and Wellness Marketplace\, food trucks\, and fan challenges.\n 	Sta
 nding room for the Celebrity Pro-Am Tournament and live DJ sets.\n\n2. Pla
 y &amp\; Stay Package\nPrice: $250 per ticket\nInclusions:\n\n 	Access to 
 an exclusive pre-event padel clinic with a pro player.\n 	Reserved seating
  for the Celebrity Pro-Am Tournament.\n 	VIP gift bag with branded merchan
 dise (e.g.\, padel wristbands\, water bottle).\n\n3. Celebrity Pro-Am Rese
 rved Seats\nPrice: $350 per ticket\n\n 	Premium reserved seating with the 
 best views of the Celebrity Pro-Am Tournament.\n 	Complimentary drink tick
 et.\n 	Access to a VIP-only lounge for networking and refreshments.\n\n4. 
 VIP Tables with Bottle Service\n\nPrice: $1\,000 per table (4 seats per ta
 ble)\nInclusions:\n\n 	Reserved VIP table with premium seating and bottle 
 service (includes champagne or spirits).\n 	Personalized concierge service
  during the event.\n 	Access to all general and VIP areas.\n\n&nbsp\;\nFea
 tured Lineup - Meet the Stars\n[gallery size="medium" ids="7209\,7210\,721
 1"]\nFan Experiences &amp\; Challenges\nBe Part of the Action\n\n 	Number 
 of Slams Challenge: How many can you hit out of the court in 30 seconds?\n
  	Get a Point Off a Pro: Face off against a pro for bragging rights and pr
 izes.\n 	Marketplace &amp\; Wellness: Indulge in therapies\, shop local go
 ods\, and savor fresh eats.\n\nEvent Timeline\n9:30 AM: Event Kickoff\n10:
 00 AM - 1:00 PM: Health &amp\; Wellness Marketplace and Celebrity Pro-Am (
 Round 1)\n2:00 PM - 3:30 PM: Fan Challenges\n5:30 PM - 7:00 PM: DJ Sunset 
 Party\n7:00 PM: Closing Ceremony
ATTACH;FMTTYPE=image/jpeg:https://breatheatlanta.us/wp-content/uploads/202
 4/12/Female_All-White-Apparel_Padel_Reserve-1.jpg
CATEGORIES:Featured Events,Sports &amp; Fitness Events,Things To
 Do,Wellness Events
LOCATION:ITA Atlanta\, 3110 Presidential Dr\, Atlanta\, GA\, 30340\, United
  States
X-APPLE-STRUCTURED-LOCATION;VALUE=URI;X-ADDRESS=3110 Presidential Dr\, Atla
 nta\, GA\, 30340\, United States;X-APPLE-RADIUS=100;X-TITLE=ITA Atlanta:ge
 o:0,0
END:VEVENT
BEGIN:VTIMEZONE
TZID:America/New_York
X-LIC-LOCATION:America/New_York
BEGIN:DAYLIGHT
DTSTART:20250309T030000
TZOFFSETFROM:-0500
TZOFFSETTO:-0400
TZNAME:EDT
END:DAYLIGHT
END:VTIMEZONE
END:VCALENDAR