BEGIN:VCALENDAR
VERSION:2.0
PRODID:-//wp-events-plugin.com//7.2.3.1//EN
TZID:America/New_York
X-WR-TIMEZONE:America/New_York
BEGIN:VEVENT
UID:764@breatheatlanta.us
DTSTART;TZID=America/New_York:20250215T140000
DTEND;TZID=America/New_York:20250215T153000
DTSTAMP:20250204T185250Z
URL:https://breatheatlanta.us/events/partner-yoga/
SUMMARY:Partner Yoga
DESCRIPTION:Partner Yoga offers a heart-centered way to celebrate love\, tr
 ust\, and connection through synchronized movement and shared intention. D
 esigned for all levels\, this special Valentine's Day experience encourage
 s deeper communication\, emotional bonding\, and mutual support as pairs e
 xplore yoga postures that require balance\, coordination\, and teamwork.\n
 \nGuided by mindful breathing and gentle movement\, participants will cult
 ivate trust and harmony while strengthening both body and spirit. Whether 
 joining with a romantic partner\, a close friend\, or a loved one\, this n
 on-heated class provides a unique opportunity to nurture relationships in 
 a supportive and relaxing environment.\n\nThe session is priced at $70 per
  pair ($35 per person). Each participant must register individually or pur
 chase two spots when signing up. Bring two yoga mats—one for each person
 —or rent one on-site.\n\nCelebrate love and togetherness through movemen
 t. Reserve your spot today!\n\nGET TICKETS\n
ATTACH;FMTTYPE=image/jpeg:https://breatheatlanta.us/wp-content/uploads/202
 5/02/Partner-Yoga.jpeg
CATEGORIES:Yoga Events
LOCATION:10700 State Bridge Rd\, 10700 State Bridge Road\, Johns Creek\, GA
 \, 30022\, GA\, United States
X-APPLE-STRUCTURED-LOCATION;VALUE=URI;X-ADDRESS=10700 State Bridge Road\, J
 ohns Creek\, GA\, 30022\, GA\, United States;X-APPLE-RADIUS=100;X-TITLE=10
 700 State Bridge Rd:geo:0,0
END:VEVENT
BEGIN:VTIMEZONE
TZID:America/New_York
X-LIC-LOCATION:America/New_York
BEGIN:STANDARD
DTSTART:20241103T010000
TZOFFSETFROM:-0400
TZOFFSETTO:-0500
TZNAME:EST
END:STANDARD
END:VTIMEZONE
END:VCALENDAR