BEGIN:VCALENDAR
VERSION:2.0
PRODID:-//wp-events-plugin.com//7.2.3.1//EN
TZID:America/New_York
X-WR-TIMEZONE:America/New_York
BEGIN:VEVENT
UID:533@breatheatlanta.us
DTSTART;TZID=America/New_York:20241026T110000
DTEND;TZID=America/New_York:20241026T130000
DTSTAMP:20240930T125153Z
URL:https://breatheatlanta.us/events/party-in-pink-with-konsciousfit/
SUMMARY:Party in Pink with KonsciousFit
DESCRIPTION:Join KonsciousFit for the Party in Pink\, a vibrant and energet
 ic Zumba class dedicated to raising awareness for breast cancer. This live
 ly event invites participants to dance\, sweat\, and unite in support of t
 hose affected by this impactful disease. Taking place at the Pop UP And Cr
 eate Coworking and Event Space\, it’s the perfect opportunity to bring f
 riends along for a fun workout while contributing to a meaningful cause.\n
 \nParticipants will enjoy an exhilarating Zumba session led by skilled ins
 tructors\, encouraging everyone to let loose and have fun while promoting 
 breast cancer awareness. The atmosphere will be filled with positivity\, c
 amaraderie\, and the shared goal of supporting those battling this illness
 .\n\nBy participating in this event\, attendees will not only get a fantas
 tic workout but also play a part in raising critical awareness and funds f
 or breast cancer research and support services. Everyone is welcome\, whet
 her you're a seasoned Zumba enthusiast or trying it for the first time. Co
 me out\, dance your heart out\, and show your support in style. Let’s mo
 ve together for a wonderful cause and make a difference!\n\nGET TICKETS\n
ATTACH;FMTTYPE=image/jpeg:https://breatheatlanta.us/wp-content/uploads/202
 4/09/Party-in-Pink-with-KonsciousFit.jpg
CATEGORIES:Wellness Events
LOCATION:Pop UP And Create Coworking and Event Space\, 2130 Kingston Court\
 , Ste D Marietta\, Georgia\, 30067\, GA\, United States
X-APPLE-STRUCTURED-LOCATION;VALUE=URI;X-ADDRESS=2130 Kingston Court\, Ste D
  Marietta\, Georgia\, 30067\, GA\, United States;X-APPLE-RADIUS=100;X-TITL
 E=Pop UP And Create Coworking and Event Space:geo:0,0
END:VEVENT
BEGIN:VTIMEZONE
TZID:America/New_York
X-LIC-LOCATION:America/New_York
BEGIN:DAYLIGHT
DTSTART:20240310T030000
TZOFFSETFROM:-0500
TZOFFSETTO:-0400
TZNAME:EDT
END:DAYLIGHT
END:VTIMEZONE
END:VCALENDAR