BEGIN:VCALENDAR
VERSION:2.0
PRODID:-//wp-events-plugin.com//7.2.3.1//EN
TZID:America/New_York
X-WR-TIMEZONE:America/New_York
BEGIN:VEVENT
UID:561@breatheatlanta.us
DTSTART;TZID=America/New_York:20241026T110000
DTEND;TZID=America/New_York:20241026T130000
DTSTAMP:20241007T103453Z
URL:https://breatheatlanta.us/events/pawtoberfest/
SUMMARY:Pawtoberfest
DESCRIPTION:Join the Happy Paws &amp\; Tails Foundation in collaboration wi
 th the Forest Park Police Department Animal Control Unit for an exciting e
 vent that promises fun for the entire family—Pawtoberfest! This communit
 y celebration is designed to bring together pet lovers and their furry fri
 ends for a day filled with joy\, laughter\, and tail-wagging activities.\n
 \nEvent Highlights:\n\n 	Pop-Up Dog Park: Let your pups run free in a spec
 ially designed pop-up dog park\, where they can socialize and play with th
 eir furry friends. This is a perfect opportunity for dogs to unleash their
  energy while their humans enjoy the festivities.\n 	Halloween Costume Pet
  Parade: Dress up your beloved pets for a spooky and fun-filled Halloween 
 costume parade! Show off their creative costumes and compete for prizes in
  various categories\, making it a memorable experience for everyone involv
 ed.\n 	Vendors and Food Stalls: Explore a variety of vendors offering pet-
 related products\, services\, and tasty treats. From gourmet dog snacks to
  stylish accessories\, you and your pup will find plenty to enjoy. Plus\, 
 savor delicious food options for yourself while you soak in the festive at
 mosphere.\n 	Games and Activities: Participate in exciting games and activ
 ities designed for pets and their owners. Enjoy the friendly competition\,
  win prizes\, and create lasting memories with your fur family.\n\nPawtobe
 rfest is not just an event\; it’s a chance to connect with fellow animal
  lovers\, celebrate the joy that pets bring into our lives\, and support l
 ocal initiatives aimed at promoting responsible pet ownership and animal w
 elfare.\n\nMark your calendars and get ready for a pawsitively delightful 
 day at Pawtoberfest—a true celebration of the bond between humans and th
 eir furry companions!\n\nGET TICKETS\n
ATTACH;FMTTYPE=image/jpeg:https://breatheatlanta.us/wp-content/uploads/202
 4/10/Pawtoberfest.jpg
CATEGORIES:Things To Do
LOCATION:868 Main St\, 868 Main Street Forest Park\, Atlanta\, Georgia\, 30
 297\, GA\, United States
X-APPLE-STRUCTURED-LOCATION;VALUE=URI;X-ADDRESS=868 Main Street Forest Park
 \, Atlanta\, Georgia\, 30297\, GA\, United States;X-APPLE-RADIUS=100;X-TIT
 LE=868 Main St:geo:0,0
END:VEVENT
BEGIN:VTIMEZONE
TZID:America/New_York
X-LIC-LOCATION:America/New_York
BEGIN:DAYLIGHT
DTSTART:20240310T030000
TZOFFSETFROM:-0500
TZOFFSETTO:-0400
TZNAME:EDT
END:DAYLIGHT
END:VTIMEZONE
END:VCALENDAR