BEGIN:VCALENDAR
VERSION:2.0
PRODID:-//wp-events-plugin.com//7.2.3.1//EN
TZID:America/New_York
X-WR-TIMEZONE:America/New_York
BEGIN:VEVENT
UID:25@breatheatlanta.us
DTSTART;TZID=America/New_York:20230924T130000
DTEND;TZID=America/New_York:20230924T130000
DTSTAMP:20230924T173622Z
URL:https://breatheatlanta.us/events/pawty-in-the-park/
SUMMARY:PAWty in the Park
DESCRIPTION:🐾 PAWty in the Park is a once-a-month mini-festival in the 1
 0th Street Park to celebrate all-things dog. If you don't have a dog\, we 
 think you will still have a blast! Join us on the third Saturday of each m
 onth through October for a DJ\, pop-up food vendors\, drinks\, games\, and
  more.🐾\n\nRSVP is not needed for entry but it helps us plan and commun
 icate with you if there are any changes to the event.\n\nPunk Foodie Unlea
 shed\n\nFor this event we have partnered with Punk Foodie to bring a fea
 tured chef-driven food pop-up to each month. In addition to each chef's mo
 st popular dishes\, the menu will also feature a creative hot dog special.
 \n\nThe chefs will be featuring Fripper's\, which are "artfully crafted\,
  one link at a time in Atlanta."\n\nLocation Details\n\nThis event is at 1
 0th Street Park\, which is at the northeast corner of Peachtree St and 10t
 h St. For GPS\, you can use 100 10th St NE\, Atlanta\, GA 30309. We are tw
 o blocks from the Midtown MARTA station and parking in the area is abundan
 t but make sure you check signage about parking and pay parking fees when 
 applicable.\n\nDetails about upcoming events:\nSeptember 24\nAtlanta Stree
 ts Alive is back and PAWty in the Park will now be happening at the same 
 time\, starting in September!\n\nTunes from DJ Skooter\n\nPunk Foodie fea
 tured chefs this month: Gourmet Street Foods\, Hardee Soups (gourmet so
 ups)\, Cooks with Passion (Latin-Caribbean)\, Smokey Mango (Comfort Fo
 od)\n\nFlakey not Flakey will be across and down the street at 1010 Midto
 wn for your dessert needs\n\nPaw Patrol Movie will be on site with fun ga
 mes for all ages
ATTACH;FMTTYPE=image/jpeg:https://breatheatlanta.us/wp-content/uploads/202
 3/09/https___cdn.evbuc_.com_images_482336979_825509698093_1_original.jpeg
CATEGORIES:Food &amp; Drink Events,Things To Do
LOCATION:10th Street Park\, Peachtree Street\, Northeast Atlanta\, Georgia\
 , 30309 \, United States
X-APPLE-STRUCTURED-LOCATION;VALUE=URI;X-ADDRESS=Peachtree Street\, Northeas
 t Atlanta\, Georgia\, 30309 \, United States;X-APPLE-RADIUS=100;X-TITLE=10
 th Street Park:geo:0,0
END:VEVENT
BEGIN:VTIMEZONE
TZID:America/New_York
X-LIC-LOCATION:America/New_York
BEGIN:DAYLIGHT
DTSTART:20230312T030000
TZOFFSETFROM:-0500
TZOFFSETTO:-0400
TZNAME:EDT
END:DAYLIGHT
END:VTIMEZONE
END:VCALENDAR