BEGIN:VCALENDAR
VERSION:2.0
PRODID:-//wp-events-plugin.com//7.2.3.1//EN
TZID:America/New_York
X-WR-TIMEZONE:America/New_York
BEGIN:VEVENT
UID:589@breatheatlanta.us
DTSTART;TZID=America/New_York:20241108T120000
DTEND;TZID=America/New_York:20241108T170000
DTSTAMP:20241010T145312Z
URL:https://breatheatlanta.us/events/pdo-thread-training-i-atlanta-ga/
SUMMARY:PDO Thread Training I - Atlanta\, GA
DESCRIPTION:The PDO Thread Training I - Atlanta\, GA is a comprehensive cer
 tification course designed for medical professionals who are looking to ad
 d PDO Thread Lift procedures to their practice. This hands-on training foc
 uses on mastering the precise techniques required for the safe and effecti
 ve placement of PDO threads within the fascial tissues of the face and oth
 er areas. The course covers essential protocols\, including the selection 
 of various thread sizes and dimensions tailored to specific patient needs.
  By the end of the training\, practitioners will be fully equipped to conf
 idently incorporate this popular\, non-surgical lifting procedure into the
 ir range of services\, enhancing their treatment offerings and patient out
 comes.\n\nGET TICKETS\n
ATTACH;FMTTYPE=image/jpeg:https://breatheatlanta.us/wp-content/uploads/202
 4/10/PDO-Thread-Training-I-Atlanta-GA.jpeg
CATEGORIES:Wellness Events
LOCATION:The Westin Buckhead Atlanta\, 3391 Peachtree Road Northeast Atlant
 a\, Georgia\, California\, 30326\, United States
X-APPLE-STRUCTURED-LOCATION;VALUE=URI;X-ADDRESS=3391 Peachtree Road Northea
 st Atlanta\, Georgia\, California\, 30326\, United States;X-APPLE-RADIUS=1
 00;X-TITLE=The Westin Buckhead Atlanta:geo:0,0
END:VEVENT
BEGIN:VTIMEZONE
TZID:America/New_York
X-LIC-LOCATION:America/New_York
BEGIN:STANDARD
DTSTART:20241103T010000
TZOFFSETFROM:-0400
TZOFFSETTO:-0500
TZNAME:EST
END:STANDARD
END:VTIMEZONE
END:VCALENDAR