BEGIN:VCALENDAR
VERSION:2.0
PRODID:-//wp-events-plugin.com//7.2.3.1//EN
TZID:America/New_York
X-WR-TIMEZONE:America/New_York
BEGIN:VEVENT
UID:353@breatheatlanta.us
DTSTART;TZID=America/New_York:20240704T140000
DTEND;TZID=America/New_York:20240704T220000
DTSTAMP:20240627T133740Z
URL:https://breatheatlanta.us/events/peach-state-block-party/
SUMMARY:PEACH STATE BLOCK PARTY
DESCRIPTION:Prepare for the ultimate summer extravaganza! Join us at Underg
 round Atlanta on Thursday\, July 4th for the Peach State Block Party\, the
  highlight event of the season. This festive occasion is tailor-made for c
 elebrating Independence Day with your loved ones. From live music and tant
 alizing food trucks to thrilling games\, there's something for everyone at
  this vibrant block party.\n\nImmerse yourself in the rhythm of the evenin
 g with live music performances that will keep you dancing all night long. 
 Explore a diverse selection of mouthwatering dishes from local vendors\, s
 atisfying every craving from savory to sweet. Engage in friendly competiti
 on with classic games like Connect Four and Jenga\, perfect for challengin
 g friends and family alike.\n\nAs the night unfolds\, prepare to be dazzle
 d by a breathtaking fireworks display that will illuminate the Atlanta sky
 line\, marking the culmination of this spectacular celebration. Don your b
 est red\, white\, and blue attire and join us for a nostalgic throwback to
  the festive spirit of past decades.\n\nDon't miss out on the Peach State 
 Block Party—it's the ultimate way to honor Independence Day with unforge
 ttable entertainment and camaraderie. We look forward to seeing you there 
 for an evening filled with joy\, excitement\, and patriotic spirit!\n\nGET
  TICKETS\n
ATTACH;FMTTYPE=image/jpeg:https://breatheatlanta.us/wp-content/uploads/202
 4/06/PEACH-STATE-BLOCK-PARTY.jpg
CATEGORIES:Arts &amp; Performances,Food &amp; Drink Events,Things To Do
LOCATION:Underground Atlanta\, 50 Upper Alabama Street Atlanta\, Atlanta\, 
 Georgia\, 30303\,  GA\, United States
X-APPLE-STRUCTURED-LOCATION;VALUE=URI;X-ADDRESS=50 Upper Alabama Street Atl
 anta\, Atlanta\, Georgia\, 30303\,  GA\, United States;X-APPLE-RADIUS=100;
 X-TITLE=Underground Atlanta:geo:0,0
END:VEVENT
BEGIN:VTIMEZONE
TZID:America/New_York
X-LIC-LOCATION:America/New_York
BEGIN:DAYLIGHT
DTSTART:20240310T030000
TZOFFSETFROM:-0500
TZOFFSETTO:-0400
TZNAME:EDT
END:DAYLIGHT
END:VTIMEZONE
END:VCALENDAR