BEGIN:VCALENDAR
VERSION:2.0
PRODID:-//wp-events-plugin.com//7.2.3.1//EN
TZID:America/New_York
X-WR-TIMEZONE:America/New_York
BEGIN:VEVENT
UID:352@breatheatlanta.us
DTSTART;TZID=America/New_York:20240704T000000
DTEND;TZID=America/New_York:20240704T235900
DTSTAMP:20240627T132052Z
URL:https://breatheatlanta.us/events/peachtree-road-race/
SUMMARY:Peachtree Road Race
DESCRIPTION:Celebrate the 55th running of the iconic Atlanta Journal-Consti
 tution Peachtree Road Race! This year's event marks over half a century of
  fitness\, fun\, and community spirit in the heart of Atlanta. Although ge
 neral registration and Atlanta Track Club member slots have officially clo
 sed\, there's still a chance to be part of this historic race.\n\nJoin the
  Peachtree Road Race and run with a purpose by signing up for the Kilomete
 r Kids Charity Waves. This special opportunity allows participants to supp
 ort a meaningful cause while taking part in one of the most celebrated run
 ning events in the nation. Don't miss your chance to contribute to the com
 munity and experience the excitement of the Peachtree Road Race!\n\nGET TI
 CKETS\n
ATTACH;FMTTYPE=image/jpeg:https://breatheatlanta.us/wp-content/uploads/202
 4/06/PEACH-STATE-BLOCK-PARTY.jpg
CATEGORIES:Arts &amp; Performances
LOCATION:3393 Peachtree Rd NE\, Peachtree Road\, Atlanta\, Georgia\, 30326\
 ,  GA\, United States
X-APPLE-STRUCTURED-LOCATION;VALUE=URI;X-ADDRESS=Peachtree Road\, Atlanta\, 
 Georgia\, 30326\,  GA\, United States;X-APPLE-RADIUS=100;X-TITLE=3393 Peac
 htree Rd NE:geo:0,0
END:VEVENT
BEGIN:VTIMEZONE
TZID:America/New_York
X-LIC-LOCATION:America/New_York
BEGIN:DAYLIGHT
DTSTART:20240310T030000
TZOFFSETFROM:-0500
TZOFFSETTO:-0400
TZNAME:EDT
END:DAYLIGHT
END:VTIMEZONE
END:VCALENDAR