BEGIN:VCALENDAR
VERSION:2.0
PRODID:-//wp-events-plugin.com//7.2.3.1//EN
TZID:America/New_York
X-WR-TIMEZONE:America/New_York
BEGIN:VEVENT
UID:666@breatheatlanta.us
DTSTART;TZID=America/New_York:20241023T190000
DTEND;TZID=America/New_York:20241023T210000
DTSTAMP:20241018T100353Z
URL:https://breatheatlanta.us/events/petals-potions/
SUMMARY:Petals & Potions
DESCRIPTION:Join the vibrant community for Petals &amp\; Potions\, an encha
 nting mid-week escape designed to uplift spirits and foster creativity. Th
 is delightful event invites attendees to indulge in the art of floral arra
 nging while sipping on crafted cocktails and savoring delicious food\, all
  set against a backdrop of relaxing vibes.\n\nDate and Time: The event wil
 l take place on Wednesday\, October 23\, 2024\, from 7 PM to 9 PM.\n\nLoca
 tion: Guests are invited to gather at Politan Row\, located within the liv
 ely Colony Square. This dynamic venue is known for its eclectic atmosphere
  and variety of culinary offerings\, making it the perfect spot for an eve
 ning of fun and relaxation.\n\nParking: Attendees will benefit from two ho
 urs of complimentary self-parking\, ensuring a hassle-free arrival and dep
 arture.\n\nDining and Drinks: A selection of food vendors will be open unt
 il 10 PM\, allowing guests to enjoy a variety of flavors throughout the ev
 ening. The bar will also be available until 10 PM\, providing an array of 
 cocktails and beverages to complement the floral experience.\n\nWhether pa
 rticipants are seasoned floral enthusiasts or simply looking for a unique 
 way to unwind\, Petals &amp\; Potions promises to be an enjoyable gatherin
 g filled with good company and creativity. So\, gather your friends\, embr
 ace your inner florist\, and come ready to create beautiful arrangements w
 hile enjoying good food\, refreshing drinks\, and an atmosphere brimming w
 ith good times!\n\nGET TICKETS\n
ATTACH;FMTTYPE=image/jpeg:https://breatheatlanta.us/wp-content/uploads/202
 4/10/Petals-Potions.jpg
CATEGORIES:Things To Do,Wellness Events
LOCATION:Politan Row at Colony Square\, 1197 Peachtree Street Northeast #St
 e 150\, Atlanta\, Georgia\, 30361\,  GA\, United States
X-APPLE-STRUCTURED-LOCATION;VALUE=URI;X-ADDRESS=1197 Peachtree Street North
 east #Ste 150\, Atlanta\, Georgia\, 30361\,  GA\, United States;X-APPLE-RA
 DIUS=100;X-TITLE=Politan Row at Colony Square:geo:0,0
END:VEVENT
BEGIN:VTIMEZONE
TZID:America/New_York
X-LIC-LOCATION:America/New_York
BEGIN:DAYLIGHT
DTSTART:20240310T030000
TZOFFSETFROM:-0500
TZOFFSETTO:-0400
TZNAME:EDT
END:DAYLIGHT
END:VTIMEZONE
END:VCALENDAR