BEGIN:VCALENDAR
VERSION:2.0
PRODID:-//wp-events-plugin.com//7.2.3.1//EN
TZID:America/New_York
X-WR-TIMEZONE:America/New_York
BEGIN:VEVENT
UID:668@breatheatlanta.us
DTSTART;TZID=America/New_York:20241026T150000
DTEND;TZID=America/New_York:20241026T190000
DTSTAMP:20241018T101341Z
URL:https://breatheatlanta.us/events/picnic-perfect-atl-presents-fall-picn
 ic/
SUMMARY:Picnic Perfect Atl Presents Fall Picnic
DESCRIPTION:The Fall Picnic is a delightful event designed to embrace the c
 ozy spirit of autumn. Attendees are invited to partake in a charming day s
 urrounded by the breathtaking colors of the season. Guests can expect a be
 autifully curated picnic setup\, complete with cozy blankets\, a selection
  of warm and cold beverages\, and an array of seasonal treats that celebra
 te the flavors of fall.\n\nThis event goes beyond just food and drink\; it
  offers a wealth of creative experiences. Attendees can immerse themselves
  in hands-on arts and crafts activities\, perfect for all ages\, encouragi
 ng both imagination and connection. Engaging games and lively conversation
 s will create an inviting atmosphere where everyone can relax\, unwind\, a
 nd forge new friendships.\n\nWhether individuals are seeking a serene esca
 pe into nature or simply want to bask in the crisp autumn air\, this picni
 c is the ideal blend of relaxation\, creativity\, and seasonal charm. Fami
 lies are especially encouraged to join\, ensuring a fun-filled day that ca
 ters to people of all ages.\n\nJoin us for an unforgettable day at the Fal
 l Picnic\, where memories are made\, and the beauty of the season is celeb
 rated!\n\nGET TICKETS\n
ATTACH;FMTTYPE=image/jpeg:https://breatheatlanta.us/wp-content/uploads/202
 4/10/Picnic-Perfect-Atl-Presents-Fall-Picnic.jpg
CATEGORIES:Food &amp; Drink Events,Things To Do
LOCATION:Piedmont Park\, The Meadows Atlanta\, Atlanta\, Georgia\, 30309\, 
  GA\, United States
X-APPLE-STRUCTURED-LOCATION;VALUE=URI;X-ADDRESS=The Meadows Atlanta\, Atlan
 ta\, Georgia\, 30309\,  GA\, United States;X-APPLE-RADIUS=100;X-TITLE=Pied
 mont Park:geo:0,0
END:VEVENT
BEGIN:VTIMEZONE
TZID:America/New_York
X-LIC-LOCATION:America/New_York
BEGIN:DAYLIGHT
DTSTART:20240310T030000
TZOFFSETFROM:-0500
TZOFFSETTO:-0400
TZNAME:EDT
END:DAYLIGHT
END:VTIMEZONE
END:VCALENDAR