BEGIN:VCALENDAR
VERSION:2.0
PRODID:-//wp-events-plugin.com//7.2.3.1//EN
TZID:America/New_York
X-WR-TIMEZONE:America/New_York
BEGIN:VEVENT
UID:358@breatheatlanta.us
DTSTART;TZID=America/New_York:20240817T100000
DTEND;TZID=America/New_York:20240818T170000
DTSTAMP:20240730T055455Z
URL:https://breatheatlanta.us/events/piedmont-park-arts-festival/
SUMMARY:Piedmont Park Arts Festival
DESCRIPTION:Recognized as one of the TOP 100 Arts Festivals in the Nation b
 y Sunshine Artist Magazine\, the annual Piedmont Park Arts Festival is a m
 ust-attend event in Atlanta. Located at 1215 Piedmont Avenue\, this two-da
 y outdoor festival takes place in the heart of Piedmont Park\, the city's 
 largest and most beloved green space.\n\nA Celebration of Visual Arts and 
 Family Fun\n\nPresented by the Atlanta Foundation for Public Spaces\, the 
 Piedmont Park Arts Festival caters to people of all ages\, cultures\, and 
 interests. This festival brings together the Midtown community\, renowned 
 for its passion for art and its support of local artists. The event reesta
 blishes a cherished tradition within Atlanta’s vibrant arts scene.\n\nDi
 scover an Eclectic Array of Artistry\n\nThe festival will showcase up to 2
 50 talented artists\, including painters\, photographers\, sculptors\, lea
 ther and metal workers\, glass blowers\, jewelers\, and crafters. Attendee
 s will have the opportunity to witness artist demonstrations\, enjoy live 
 acoustic music\, and explore a children's play area. Additionally\, there 
 will be a variety of festival foods and beverages\, including healthy opti
 ons.\n\nSupport and Celebrate the Arts\n\nOrganized by the Atlanta Foundat
 ion for Public Spaces\, LLC\, in partnership with the fall fine arts Chast
 ain Park Arts Festival and over a dozen other events\, this festival is de
 dicated to upholding the highest standards of artistic excellence. A board
  of experts from various artistic disciplines ensures a nurturing environm
 ent that fosters an appreciation for the arts.\n\nJoin Us for a Weekend of
  Artistic Inspiration and Community Connection\n\nWhether you are an art e
 nthusiast\, a collector\, or simply looking for a fun family outing\, the 
 Piedmont Park Arts Festival offers something for everyone. Immerse yoursel
 f in the creative atmosphere\, support local artists\, and enjoy the rich 
 cultural experience this festival has to offer. Don’t miss the opportuni
 ty to be part of this celebrated event in Atlanta's artistic calendar.\n\n
 GET TICKETS\n
ATTACH;FMTTYPE=image/jpeg:https://breatheatlanta.us/wp-content/uploads/202
 4/07/Screenshot-2024-07-30-110349.png
CATEGORIES:Arts &amp; Performances,Mindfulness Events,Things To Do
LOCATION:Abnormal Market – Uncommon Bazaar\, Piedmont Park Holiday Market
 \, 1071 Piedmont Ave NE\, Georgia\, 30309\, GA \, United States
X-APPLE-STRUCTURED-LOCATION;VALUE=URI;X-ADDRESS=Piedmont Park Holiday Marke
 t\, 1071 Piedmont Ave NE\, Georgia\, 30309\, GA \, United States;X-APPLE-R
 ADIUS=100;X-TITLE=Abnormal Market – Uncommon Bazaar:geo:0,0
END:VEVENT
BEGIN:VTIMEZONE
TZID:America/New_York
X-LIC-LOCATION:America/New_York
BEGIN:DAYLIGHT
DTSTART:20240310T030000
TZOFFSETFROM:-0500
TZOFFSETTO:-0400
TZNAME:EDT
END:DAYLIGHT
END:VTIMEZONE
END:VCALENDAR