BEGIN:VCALENDAR
VERSION:2.0
PRODID:-//wp-events-plugin.com//7.2.3.1//EN
TZID:America/New_York
X-WR-TIMEZONE:America/New_York
BEGIN:VEVENT
UID:530@breatheatlanta.us
DTSTART;TZID=America/New_York:20241029T110000
DTEND;TZID=America/New_York:20241029T114500
DTSTAMP:20240930T122049Z
URL:https://breatheatlanta.us/events/pilates-fitness-pilafit-session/
SUMMARY:Pilates Fitness Pila'Fit Session
DESCRIPTION:Participants interested in joining a Pilates Fitness Pila'Fit s
 ession must contact Battle Box Atlanta’s front desk ahead of time to sec
 ure their spot\, as walk-ins are not guaranteed availability without prior
  confirmation. First-time attendees who book through Eventbrite will have 
 an account automatically created in the system\, ensuring a seamless enrol
 lment process. Returning visitors are also promptly enrolled once they com
 plete their Eventbrite purchase. After booking\, an automated confirmation
  email will be sent to the participant\, providing additional details for 
 the session.\n\nGET TICKETS\n
ATTACH;FMTTYPE=image/jpeg:https://breatheatlanta.us/wp-content/uploads/202
 4/09/Pilates-Fitness-PilaFit-Session.jpg
CATEGORIES:Sports &amp; Fitness Events
LOCATION:1185 West Ave\, 1185 West Avenue Southwest\, Conyers\, Georgia\, 3
 0012\, GA\, United States
X-APPLE-STRUCTURED-LOCATION;VALUE=URI;X-ADDRESS=1185 West Avenue Southwest\
 , Conyers\, Georgia\, 30012\, GA\, United States;X-APPLE-RADIUS=100;X-TITL
 E=1185 West Ave:geo:0,0
END:VEVENT
BEGIN:VTIMEZONE
TZID:America/New_York
X-LIC-LOCATION:America/New_York
BEGIN:DAYLIGHT
DTSTART:20240310T030000
TZOFFSETFROM:-0500
TZOFFSETTO:-0400
TZNAME:EDT
END:DAYLIGHT
END:VTIMEZONE
END:VCALENDAR