BEGIN:VCALENDAR
VERSION:2.0
PRODID:-//wp-events-plugin.com//7.2.3.1//EN
TZID:America/New_York
X-WR-TIMEZONE:America/New_York
BEGIN:VEVENT
UID:368@breatheatlanta.us
DTSTART;TZID=America/New_York:20240703T100000
DTEND;TZID=America/New_York:20240703T120000
DTSTAMP:20240730T082717Z
URL:https://breatheatlanta.us/events/pilates-powered-by-creative-irl-x-ose
 ko/
SUMMARY:Pilates powered by Creative: IRL x Oseko
DESCRIPTION:Join us for "Pilates Powered by Creative: IRL x Oseko\," a revi
 talizing two-hour event designed to energize both your body and mind. Taki
 ng place on [insert date]\, this exclusive gathering promises a perfect bl
 end of fitness\, creativity\, and community spirit.\n\nEvent Highlights:\n
 \n 	Content Mindset Workshop: Start your experience with a dynamic worksho
 p focused on crafting impactful\, brand-building content. Gain valuable in
 sights and strategies to elevate your creative projects and connect with y
 our audience effectively.\n 	Classical Mat Pilates Session: Transition sea
 mlessly into a 45-minute Pilates session led by expert instructors. This c
 lassical mat workout will invigorate your body\, enhance flexibility\, and
  prepare you to conquer new challenges with renewed energy.\n 	Refreshing 
 Matcha: Enjoy a selection of refreshing matcha beverages\, perfect for rec
 harging and revitalizing during the event.\n 	Exciting Gift Bags: Each par
 ticipant will receive a curated gift bag filled with exclusive items to co
 ntinue the inspiration and enjoyment beyond the event.\n 	Good Vibes and N
 etworking: Connect with like-minded individuals who share your passion for
  wellness and creativity\, and experience the positive energy that this un
 ique event fosters.\n\nWhether you're a Pilates enthusiast looking to deep
 en your practice or a creative professional seeking new strategies\, "Pila
 tes Powered by Creative: IRL x Oseko" offers an enriching experience desig
 ned to elevate both your physical and creative pursuits. Register now to s
 ecure your spot and be part of this invigorating event!\n\nGET TICKETS\n
ATTACH;FMTTYPE=image/jpeg:https://breatheatlanta.us/wp-content/uploads/202
 4/07/Pilates-powered-by-Creative-IRL-x-Oseko.jpg
CATEGORIES:Mindfulness Events,Things To Do,Wellness Events,Yoga Events
LOCATION:NHG Studios\, 206 Rogers Street Northeast Atlanta\, Atlanta\, Geor
 gia\, 30307\, GA \, United States
X-APPLE-STRUCTURED-LOCATION;VALUE=URI;X-ADDRESS=206 Rogers Street Northeast
  Atlanta\, Atlanta\, Georgia\, 30307\, GA \, United States;X-APPLE-RADIUS=
 100;X-TITLE=NHG Studios:geo:0,0
END:VEVENT
BEGIN:VTIMEZONE
TZID:America/New_York
X-LIC-LOCATION:America/New_York
BEGIN:DAYLIGHT
DTSTART:20240310T030000
TZOFFSETFROM:-0500
TZOFFSETTO:-0400
TZNAME:EDT
END:DAYLIGHT
END:VTIMEZONE
END:VCALENDAR