BEGIN:VCALENDAR
VERSION:2.0
PRODID:-//wp-events-plugin.com//7.2.3.1//EN
TZID:America/New_York
X-WR-TIMEZONE:America/New_York
BEGIN:VEVENT
UID:585@breatheatlanta.us
DTSTART;TZID=America/New_York:20241031T180000
DTEND;TZID=America/New_York:20241031T203000
DTSTAMP:20241009T143109Z
URL:https://breatheatlanta.us/events/plant-based-date-night-cooking-class-
 by-cozymeal/
SUMMARY:Plant-Based Date Night - Cooking Class by Cozymeal™
DESCRIPTION:An unforgettable evening of exquisite cuisine and delightful co
 mpanionship awaits at the chef's table with Cozymeal’s "Plant-Based Date
  Night." Hosted by the talented Chef Megan\, this intimate 2.5-hour cookin
 g class promises participants a unique culinary experience\, culminating i
 n a delicious four-course meal.\n\nDuring the class\, guests will learn to
  prepare a variety of flavorful plant-based dishes\, gaining hands-on expe
 rience and valuable cooking techniques along the way. The atmosphere is de
 signed to foster connection and creativity\, making it the perfect setting
  for couples or friends looking to bond over food while exploring the art 
 of plant-based cooking.\n\nCozymeal is renowned for offering a diverse ran
 ge of culinary experiences\, including cooking classes\, team-building act
 ivities\, food tours\, and private chef services. With offerings in over 7
 0 cities across the U.S. and Canada\, Cozymeal ensures that each experienc
 e is memorable and engaging\, guided by exceptional chefs and culinary exp
 erts.\n\nBook your spot for "Plant-Based Date Night" and embark on a delic
 ious journey that will not only enhance your culinary skills but also crea
 te lasting memories. For more details and to check upcoming dates\, visit 
 the "Plant-Based Date Night" page and prepare for a night of fantastic foo
 d and fun!\n\nGET TICKETS\n
ATTACH;FMTTYPE=image/jpeg:https://breatheatlanta.us/wp-content/uploads/202
 4/10/Plant-Based-Date-Night-Cooking-Class-by-Cozymeal™.jpeg
CATEGORIES:Food &amp; Drink Events
LOCATION:Location provided after booking\, Atlanta\, Atlanta\, GA\, 30328\,
  GA\, United States
X-APPLE-STRUCTURED-LOCATION;VALUE=URI;X-ADDRESS=Atlanta\, Atlanta\, GA\, 30
 328\, GA\, United States;X-APPLE-RADIUS=100;X-TITLE=Location provided afte
 r booking:geo:0,0
END:VEVENT
BEGIN:VTIMEZONE
TZID:America/New_York
X-LIC-LOCATION:America/New_York
BEGIN:DAYLIGHT
DTSTART:20240310T030000
TZOFFSETFROM:-0500
TZOFFSETTO:-0400
TZNAME:EDT
END:DAYLIGHT
END:VTIMEZONE
END:VCALENDAR