BEGIN:VCALENDAR
VERSION:2.0
PRODID:-//wp-events-plugin.com//7.2.3.1//EN
TZID:America/New_York
X-WR-TIMEZONE:America/New_York
BEGIN:VEVENT
UID:625@breatheatlanta.us
DTSTART;TZID=America/New_York:20241101T200000
DTEND;TZID=America/New_York:20241101T220000
DTSTAMP:20241014T104330Z
URL:https://breatheatlanta.us/events/pmmfit-weight-management-101-salsa-ba
 sics-social-dancing-edgy-girl-fs/
SUMMARY:PMMFIT WEIGHT MANAGEMENT 101 - SALSA Basics & Social Dancing @ EDGY
  GIRL FS
DESCRIPTION:Discover a fun and engaging way to reach your fitness goals wit
 h PMMFIT’s Weight Management 101! This unique class combines the basics 
 of salsa dancing with a social twist\, all while helping you hit your dail
 y step goal of 10\,000 steps. Join the PMMFIT Salsa Club in Stockbridge\, 
 GA\, and dance your way to better health and wellness. Whether you’re a 
 beginner or an intermediate dancer\, all skill levels are welcome to join 
 in the fun and fitness.\n\nThe class is perfect for those seeking a new wa
 y to stay active\, especially salsa enthusiasts who may have been displace
 d from the Coco Cabana in Tucker\, GA\, before the COVID-19 pandemic. This
  is your chance to reignite your passion for dance in a supportive communi
 ty setting.\n\nFor questions\, contact (770) 842-1623. Come dance\, get fi
 t\, and connect with fellow dancers in a vibrant and energetic environment
 !"\n\nGET TICKETS\n
ATTACH;FMTTYPE=image/jpeg:https://breatheatlanta.us/wp-content/uploads/202
 4/10/PMMFIT-WEIGHT.jpeg
CATEGORIES:Wellness Events
LOCATION:2685 GA-42\, 2685 Georgia 42 \, McDonough\, Georgia\, 30253 \, GA\
 , United States
X-APPLE-STRUCTURED-LOCATION;VALUE=URI;X-ADDRESS=2685 Georgia 42 \, McDonoug
 h\, Georgia\, 30253 \, GA\, United States;X-APPLE-RADIUS=100;X-TITLE=2685 
 GA-42:geo:0,0
END:VEVENT
BEGIN:VTIMEZONE
TZID:America/New_York
X-LIC-LOCATION:America/New_York
BEGIN:DAYLIGHT
DTSTART:20240310T030000
TZOFFSETFROM:-0500
TZOFFSETTO:-0400
TZNAME:EDT
END:DAYLIGHT
END:VTIMEZONE
END:VCALENDAR