BEGIN:VCALENDAR
VERSION:2.0
PRODID:-//wp-events-plugin.com//7.2.3.1//EN
TZID:America/New_York
X-WR-TIMEZONE:America/New_York
BEGIN:VEVENT
UID:158@breatheatlanta.us
DTSTART;TZID=America/New_York:20240426T200000
DTEND;TZID=America/New_York:20240426T220000
DTSTAMP:20240328T061254Z
URL:https://breatheatlanta.us/events/pmmfit-weight-management-101-salsa-ba
 sics-social-dancing-salsa-club/
SUMMARY:PMMFIT WEIGHT MANAGEMENT 101 - Salsa Basics & Social Dancing - SALS
 A CLUB
DESCRIPTION:Dive into the vibrant rhythms of SALSA CLUB @ Fitness2020 Eagle
 ’s Landing in Stockbridge\, GA every Friday from 8pm to 10pm. Calling al
 l former Coco Cabana dancers - it's time to reignite your passion for danc
 e and get your STEPS back!\n\nEvent Information:\n\nEvent Name: PMMFIT WEI
 GHT MANAGEMENT 101 - Salsa Basics &amp\; Social Dancing - SALSA CLUB\n\nHo
 st: PAMELA MYERS MODEL FITNESS (PMMFIT)\n\nDate and Time: Friday\, April 2
 6 • 8:00 - 10:00pm EDT\n\nLocation: Fitness 2020 - Eagles Landing\, 200-
 200 Bus Center Drive\, Stockbridge\, GA 30281\, United States\n\nAbout thi
 s Event:  an exhilarating evening of Salsa Basics &amp\; Social Dancing a
 t the SALSA CLUB\, hosted by PAMELA MYERS MODEL FITNESS (PMMFIT). Get read
 y to groove and move as we learn the fundamentals of salsa dancing\, pract
 ice our steps\, and work towards achieving our daily step count goals.\n\n
 Whether you're a seasoned salsa dancer or just starting out\, everyone is 
 welcome to join the PMMFIT Salsa Club. Dance your way to wellness and enjo
 y the energetic atmosphere at Fitness 2020 Eagle’s Landing in Stockbridg
 e\, GA. Former Coco Cabana dancers are especially encouraged to attend (Pr
 e-COVID19).\n\nTicket Price: 1 x General Admission - $5.00\n\nGET TICKETS\
 n\nRefund Policy: Contact the organizer to request a refund. Eventbrite's 
 fee is nonrefundable.\n\n&nbsp\;\n\nWorkout Session Detail:\n\nTitle: Sals
 a Basics &amp\; Social Dancing - SALSA CLUB\n\nDuration: 2 hours\n\nEssent
 ial for Attendees:\n\nComfortable attire for dancing\n\nPositive energy an
 d enthusiasm\n\nWillingness to learn and have fun\n\nParking Option: Parki
 ng is available at Fitness 2020 - Eagles Landing.\n\nnight of rhythm\, mov
 ement\, and fun as we salsa our way to fitness and wellness!
ATTACH;FMTTYPE=image/jpeg:https://breatheatlanta.us/wp-content/uploads/202
 4/03/6363636363636.jpg
CATEGORIES:Wellness Events
LOCATION:Fitness 2020 - Eagles Landing\,  200-200 Bus Center Drive Stockbri
 dge\,  \, Drive Stockbridge\,  \, United States\, 30281 \, GA \, United St
 ates
X-APPLE-STRUCTURED-LOCATION;VALUE=URI;X-ADDRESS= 200-200 Bus Center Drive S
 tockbridge\,  \, Drive Stockbridge\,  \, United States\, 30281 \, GA \, Un
 ited States;X-APPLE-RADIUS=100;X-TITLE=Fitness 2020 - Eagles Landing:geo:0
 ,0
END:VEVENT
BEGIN:VTIMEZONE
TZID:America/New_York
X-LIC-LOCATION:America/New_York
BEGIN:DAYLIGHT
DTSTART:20240310T030000
TZOFFSETFROM:-0500
TZOFFSETTO:-0400
TZNAME:EDT
END:DAYLIGHT
END:VTIMEZONE
END:VCALENDAR