BEGIN:VCALENDAR
VERSION:2.0
PRODID:-//wp-events-plugin.com//7.2.3.1//EN
TZID:America/New_York
X-WR-TIMEZONE:America/New_York
BEGIN:VEVENT
UID:586@breatheatlanta.us
DTSTART;TZID=America/New_York:20241105T190000
DTEND;TZID=America/New_York:20241105T220000
DTSTAMP:20241009T143659Z
URL:https://breatheatlanta.us/events/poledancers-vs-boxers-fitness-maratho
 n/
SUMMARY:Poledancers Vs. Boxers Fitness Marathon
DESCRIPTION:Get ready for a unique fitness experience like no other with th
 e Poledancers vs. Boxers Fitness Marathon! This exciting co-ed event is op
 en to participants of all fitness levels\, with no prerequisites required.
 \n\nAbout the Event:\nThis three-hour fitness marathon combines the thrill
 ing worlds of pole dancing and boxing\, offering attendees an unforgettabl
 e workout adventure. Led by a team of expert instructors\, participants wi
 ll engage in dynamic pole fitness routines and high-energy boxing circuits
 \, ensuring a well-rounded and exhilarating workout.\n\nThe event is desig
 ned for fitness enthusiasts eager to challenge themselves. Participants wi
 ll have the chance to complete three one-hour sessions\, earning not only 
 bragging rights but also exciting prizes. It’s a fantastic opportunity t
 o push personal limits while having a blast in a supportive and energetic 
 environment!\n\nClass Details:\n\n 	Participants are encouraged to wear sh
 ort shorts and comfortable workout attire.\n 	It’s essential to come pre
 pared with water to stay hydrated throughout the sessions.\n 	Please refra
 in from using body oil or lotion to ensure safety during pole training.\n\
 nDon’t miss this chance to engage in a fun and challenging fitness marat
 hon that celebrates strength\, skill\, and community!\n\nGET TICKETS\n
ATTACH;FMTTYPE=image/jpeg:https://breatheatlanta.us/wp-content/uploads/202
 4/10/Poledancers-Vs.-Boxers-Fitness-Marathon.jpeg
CATEGORIES:Sports &amp; Fitness Events
LOCATION:Creatives Rental Space\, 1483 Chattahoochee Avenue Northwest\, Atl
 anta\, 30318\, GA\, United States
X-APPLE-STRUCTURED-LOCATION;VALUE=URI;X-ADDRESS=1483 Chattahoochee Avenue N
 orthwest\, Atlanta\, 30318\, GA\, United States;X-APPLE-RADIUS=100;X-TITLE
 =Creatives Rental Space:geo:0,0
END:VEVENT
BEGIN:VTIMEZONE
TZID:America/New_York
X-LIC-LOCATION:America/New_York
BEGIN:STANDARD
DTSTART:20241103T010000
TZOFFSETFROM:-0400
TZOFFSETTO:-0500
TZNAME:EST
END:STANDARD
END:VTIMEZONE
END:VCALENDAR