BEGIN:VCALENDAR
VERSION:2.0
PRODID:-//wp-events-plugin.com//7.2.3.1//EN
TZID:America/New_York
X-WR-TIMEZONE:America/New_York
BEGIN:VEVENT
UID:653@breatheatlanta.us
DTSTART;TZID=America/New_York:20241023T180000
DTEND;TZID=America/New_York:20241023T210000
DTSTAMP:20241018T084444Z
URL:https://breatheatlanta.us/events/portfolio-night-2024-atlanta/
SUMMARY:Portfolio Night 2024 | Atlanta
DESCRIPTION:Portfolio Night 2024 is set to be the largest single-day advert
 ising portfolio review in the world\, taking place on October 24\, 2024. T
 his dynamic event will bring together thousands of aspiring advertising co
 pywriters\, art directors\, and other young creatives\, providing them wit
 h the unique opportunity to connect with hundreds of esteemed creative dir
 ectors. Participants can look forward to an engaging evening filled with v
 aluable advice\, mentorship\, and potential recruitment opportunities in t
 he fast-paced world of advertising.\n\nHosted by WPP and The One Club for 
 Creativity Atlanta\, Portfolio Night 2024 is designed to help young talent
  showcase their work while gaining insights from industry leaders. Creativ
 e directors who wish to participate in the portfolio reviews are encourage
 d to reach out directly to The One Club for Creativity or WPP at portfolio
 night@oneclub.org. It is important to note that creative directors should 
 not register for the event via EventBrite\, as doing so would occupy a val
 uable spot that could otherwise be filled by a young creative eager to lea
 rn and grow.\n\nThis event not only emphasizes the importance of mentorshi
 p and networking in the creative industry but also aims to foster the next
  generation of advertising professionals. Young creatives will leave with 
 invaluable feedback on their portfolios\, empowering them to refine their 
 skills and advance their careers.\n\nGET TICKETS\n
ATTACH;FMTTYPE=image/jpeg:https://breatheatlanta.us/wp-content/uploads/202
 4/10/Portfolio-Night-2024-Atlanta.jpg
CATEGORIES:Things To Do
LOCATION:WPP Atlanta Campus\, 505 North Angier Avenue Northeast Atlanta\, A
 tlanta\, Georgia\, 30308\, GA\, United States
X-APPLE-STRUCTURED-LOCATION;VALUE=URI;X-ADDRESS=505 North Angier Avenue Nor
 theast Atlanta\, Atlanta\, Georgia\, 30308\, GA\, United States;X-APPLE-RA
 DIUS=100;X-TITLE=WPP Atlanta Campus:geo:0,0
END:VEVENT
BEGIN:VTIMEZONE
TZID:America/New_York
X-LIC-LOCATION:America/New_York
BEGIN:DAYLIGHT
DTSTART:20240310T030000
TZOFFSETFROM:-0500
TZOFFSETTO:-0400
TZNAME:EDT
END:DAYLIGHT
END:VTIMEZONE
END:VCALENDAR