BEGIN:VCALENDAR
VERSION:2.0
PRODID:-//wp-events-plugin.com//7.2.3.1//EN
TZID:America/New_York
X-WR-TIMEZONE:America/New_York
BEGIN:VEVENT
UID:612@breatheatlanta.us
DTSTART;TZID=America/New_York:20241107T173000
DTEND;TZID=America/New_York:20241107T190000
DTSTAMP:20241013T122054Z
URL:https://breatheatlanta.us/events/pour-decisions/
SUMMARY:Pour Decisions
DESCRIPTION:\n\n\n\n\n\n\n\n\n\n\n\n\n\n\n\n"Pour Decisions" offers an enga
 ging and interactive cocktail experience led by a skilled mixologist\, whe
 re participants can uncover the art behind iconic spirits and cocktails. U
 nder expert guidance\, guests are introduced to the techniques and secrets
  behind classic brands while also experimenting with unconventional ingred
 ients that bring a fresh twist to traditional flavors. This hands-on sessi
 on ensures that attendees not only learn the craft of mixology but also ga
 in the confidence to recreate impressive cocktails at home. With a lively 
 atmosphere filled with laughter\, creativity\, and a range of signature dr
 inks that blend tradition and innovation\, the evening promises a delightf
 ul fusion of education and entertainment. Perfect for anyone looking to el
 evate their cocktail-making skills.\n\nGET TICKETS\n\n\n\n\n\n\n
ATTACH;FMTTYPE=image/jpeg:https://breatheatlanta.us/wp-content/uploads/202
 4/10/Pour-Decisions.jpeg
CATEGORIES:Featured Events
LOCATION:The Upper Room ATL\, 675 Ponce De Leon Avenue \, Northeast Atlanta
 \, Georgia\, 30308\, GA\, United States
X-APPLE-STRUCTURED-LOCATION;VALUE=URI;X-ADDRESS=675 Ponce De Leon Avenue \,
  Northeast Atlanta\, Georgia\, 30308\, GA\, United States;X-APPLE-RADIUS=1
 00;X-TITLE=The Upper Room ATL:geo:0,0
END:VEVENT
BEGIN:VTIMEZONE
TZID:America/New_York
X-LIC-LOCATION:America/New_York
BEGIN:STANDARD
DTSTART:20241103T010000
TZOFFSETFROM:-0400
TZOFFSETTO:-0500
TZNAME:EST
END:STANDARD
END:VTIMEZONE
END:VCALENDAR