BEGIN:VCALENDAR
VERSION:2.0
PRODID:-//wp-events-plugin.com//7.2.3.1//EN
TZID:America/New_York
X-WR-TIMEZONE:America/New_York
BEGIN:VEVENT
UID:325@breatheatlanta.us
DTSTART;TZID=America/New_York:20240706T100000
DTEND;TZID=America/New_York:20240706T110000
DTSTAMP:20240627T051553Z
URL:https://breatheatlanta.us/events/pray-laugh-slay-womens-empowerment-se
 minar/
SUMMARY:Pray. Laugh. Slay Women's Empowerment Seminar
DESCRIPTION:Welcome to the Pray. Laugh. Slay Women's Empowerment Seminar! P
 repare to be inspired\, uplifted\, and empowered at the Renaissance Concou
 rse Atlanta Airport Hotel. This event is dedicated to celebrating women an
 d equipping them with the tools they need to reach their full potential. G
 et ready for a day filled with motivational speakers\, meaningful connecti
 ons\, and empowerment to help you conquer your goals.\n\nEvent Details:\n\
 n 	Location: The seminar will take place at the Renaissance Concourse Atla
 nta Airport Hotel\, providing a convenient and upscale setting for the eve
 nt.\n 	Activities: Participants will have the opportunity to listen to pow
 erful speakers\, engage in networking sessions\, and participate in empowe
 ring activities designed to boost confidence and motivation.\n 	Purpose: T
 he event aims to uplift\, inspire\, and empower women from all walks of li
 fe to pursue their dreams and live their best lives.\n\nWhat to Expect:\n\
 n 	Inspiring Speakers: Gain insights and motivation from influential speak
 ers who share their personal stories and wisdom.\n 	Networking Opportuniti
 es: Connect with like-minded individuals and build supportive relationship
 s that can help you on your journey.\n 	Empowerment Exercises: Participate
  in empowering activities and exercises designed to boost confidence\, res
 ilience\, and self-belief.\n\nWhy Attend:\n\n 	Personal Growth: Expand you
 r horizons\, gain new perspectives\, and discover strategies to overcome o
 bstacles and achieve success.\n 	Community Support: Surround yourself with
  a supportive community of women who uplift and encourage each other.\n 	E
 mpowerment: Leave the seminar feeling inspired\, empowered\, and ready to 
 slay your goals with confidence and determination.\n\nJoin Us:\n\nDon't mi
 ss out on this incredible opportunity to grow\, connect\, and thrive at th
 e Pray. Laugh. Slay Women's Empowerment Seminar. Reserve your spot now and
  embark on a journey of empowerment and self-discovery. See you there!\n\n
 GET TICKETS\n
ATTACH;FMTTYPE=image/jpeg:https://breatheatlanta.us/wp-content/uploads/202
 4/06/Pray.-Laugh.-Slay-Womens-Empowerment-Seminar.jpg
CATEGORIES:Mindfulness Events,Wellness Events
LOCATION:Renaissance Concourse Atlanta Airport Hotel\, One Hartsfield Cente
 r Parkway Atlanta\, Atlanta\, Georgia\, 30354\, GA \, United States
X-APPLE-STRUCTURED-LOCATION;VALUE=URI;X-ADDRESS=One Hartsfield Center Parkw
 ay Atlanta\, Atlanta\, Georgia\, 30354\, GA \, United States;X-APPLE-RADIU
 S=100;X-TITLE=Renaissance Concourse Atlanta Airport Hotel:geo:0,0
END:VEVENT
BEGIN:VTIMEZONE
TZID:America/New_York
X-LIC-LOCATION:America/New_York
BEGIN:DAYLIGHT
DTSTART:20240310T030000
TZOFFSETFROM:-0500
TZOFFSETTO:-0400
TZNAME:EDT
END:DAYLIGHT
END:VTIMEZONE
END:VCALENDAR