BEGIN:VCALENDAR
VERSION:2.0
PRODID:-//wp-events-plugin.com//7.2.3.1//EN
TZID:America/New_York
X-WR-TIMEZONE:America/New_York
BEGIN:VEVENT
UID:114@breatheatlanta.us
DTSTART;TZID=America/New_York:20240403T170000
DTEND;TZID=America/New_York:20240403T180000
DTSTAMP:20240320T075418Z
URL:https://breatheatlanta.us/events/prenatal-yoga-session/
SUMMARY:Prenatal Yoga Session
DESCRIPTION:Experience the soothing embrace of our personalized prenatal yo
 ga session\, crafted specifically to guide you toward moments of tranquili
 ty on your pregnancy journey. Join us in person as we tailor each movement
  to support and nurture your body during this special time. Embrace the op
 portunity to find solace and inner peace amidst the journey of pregnancy. 
 Let us be your companions in creating a serene space where you can cultiva
 te a deeper connection with yourself and your growing baby.\n\nEvent Infor
 mation:\n\nEvent Name: Prenatal Yoga Session\n\nHost: Relax and Recover Do
 ula Services\n\nDate and Time: Wednesday\, April 3 • 5:00 - 6:00 pm EDT\
 n\nLocation: 1880 Braselton Highway #suite 120 Lawrenceville\, GA 30043\, 
 United States\n\nTicket Price: Donation - $0.00 (Sales end on Apr 3\, 2024
  - Fees and taxes will be calculated before you place your order)\n\n&nbsp
 \;\n\nGET TICKETS\n\nAbout this Event: Join us for a personalized prenatal
  yoga session designed to support you on your pregnancy journey. Led by Re
 lax and Recover Doula Services\, this in-person session offers tailored mo
 difications to help ease discomfort and release blockages in the body. Dra
 wing from personal experiences\, the host understands the unique needs of 
 pregnant individuals in yoga classes and provides a supportive environment
  for relaxation and movement. This session not only offers physical benefi
 ts but also fosters community among expecting mothers\, providing emotiona
 l support and a sense of belonging. Don't miss this opportunity to connect
  with others and find moments of peace during your pregnancy.\n\nWorkout S
 ession Detail:\n\nPrenatal yoga session with modifications tailored for pr
 egnant bodies.\n\nFocus on releasing blockages and discomfort throughout t
 he body.\n\nEssential for Attendees:\n\nComfortable clothing suitable for 
 yoga practice.\n\nWater bottle and any necessary pregnancy support props (
 e.g.\, bolster\, blocks).\n\nOpenness to relaxation and movement based on 
 individual needs.\n\nParking Option: Not specified in the provided informa
 tion.\n\nRefund Policy: Contact the organizer to request a refund. Eventbr
 ite's fee is nonrefundable
ATTACH;FMTTYPE=image/jpeg:https://breatheatlanta.us/wp-content/uploads/202
 4/03/kkkkkkkkkkk.jpg
CATEGORIES:Wellness Events,Yoga Events
LOCATION:1880 Braselton Hwy suite 120\,   1880 Braselton Highway #suite 120
  \, \, Lawrenceville\, United States\, 30043 \, GA \, United States
X-APPLE-STRUCTURED-LOCATION;VALUE=URI;X-ADDRESS=  1880 Braselton Highway #s
 uite 120 \, \, Lawrenceville\, United States\, 30043 \, GA \, United State
 s;X-APPLE-RADIUS=100;X-TITLE=1880 Braselton Hwy suite 120:geo:0,0
END:VEVENT
BEGIN:VTIMEZONE
TZID:America/New_York
X-LIC-LOCATION:America/New_York
BEGIN:DAYLIGHT
DTSTART:20240310T030000
TZOFFSETFROM:-0500
TZOFFSETTO:-0400
TZNAME:EDT
END:DAYLIGHT
END:VTIMEZONE
END:VCALENDAR