BEGIN:VCALENDAR
VERSION:2.0
PRODID:-//wp-events-plugin.com//7.2.3.1//EN
TZID:America/New_York
X-WR-TIMEZONE:America/New_York
BEGIN:VEVENT
UID:581@breatheatlanta.us
DTSTART;TZID=America/New_York:20241102T123000
DTEND;TZID=America/New_York:20241102T220000
DTSTAMP:20241009T140730Z
URL:https://breatheatlanta.us/events/primo-pizza-party-for-kids-cooking-cl
 ass-by-cozymeal/
SUMMARY:Primo Pizza Party for Kids - Cooking Class by Cozymeal™
DESCRIPTION:In the vibrant landscape of culinary experiences across the Uni
 ted States\, a delightful opportunity awaits young chefs in Atlanta\, Geor
 gia. Cozymeal™ presents the "Primo Pizza Party for Kids\," a lively cook
 ing class designed specifically for children. This engaging event not only
  introduces kids to the art of pizza-making but also fosters creativity an
 d teamwork in the kitchen.\n\nLocated in the heart of Atlanta\, this uniqu
 e cooking class offers an exciting blend of education and fun\, making it 
 an ideal activity for families seeking memorable outings. Participants wil
 l learn the ins and outs of crafting delicious pizzas\, from preparing fre
 sh dough to selecting their favorite toppings. As they roll up their sleev
 es and dive into the culinary process\, kids will develop essential cookin
 g skills while enjoying a hands-on experience.\n\nWith a focus on creating
  a friendly and interactive environment\, the Primo Pizza Party encourages
  young participants to express themselves and experiment with flavors\, re
 sulting in a personal pizza that reflects their individual tastes. This cl
 ass not only serves as an entertaining way to spend time but also instills
  a sense of accomplishment and pride in their culinary creations.\n\nFor t
 hose searching for exciting things to do in Atlanta\, this pizza-making cl
 ass stands out as a fantastic option\, combining education\, creativity\, 
 and delicious food into one unforgettable event.\n\nGET TICKETS\n
ATTACH;FMTTYPE=image/jpeg:https://breatheatlanta.us/wp-content/uploads/202
 4/10/Primo-Pizza-Party-for-Kids-Cooking-Class-by-Cozymeal™.jpeg
CATEGORIES:Wellness Events
LOCATION:Location provided after booking\, Atlanta\, Atlanta\, GA\, 30315\,
  GA\, United States
X-APPLE-STRUCTURED-LOCATION;VALUE=URI;X-ADDRESS=Atlanta\, Atlanta\, GA\, 30
 315\, GA\, United States;X-APPLE-RADIUS=100;X-TITLE=Location provided afte
 r booking:geo:0,0
END:VEVENT
BEGIN:VTIMEZONE
TZID:America/New_York
X-LIC-LOCATION:America/New_York
BEGIN:DAYLIGHT
DTSTART:20240310T030000
TZOFFSETFROM:-0500
TZOFFSETTO:-0400
TZNAME:EDT
END:DAYLIGHT
END:VTIMEZONE
END:VCALENDAR