BEGIN:VCALENDAR
VERSION:2.0
PRODID:-//wp-events-plugin.com//7.2.3.1//EN
TZID:America/New_York
X-WR-TIMEZONE:America/New_York
BEGIN:VEVENT
UID:464@breatheatlanta.us
DTSTART;TZID=America/New_York:20240922T180000
DTEND;TZID=America/New_York:20240922T193000
DTSTAMP:20240915T083049Z
URL:https://breatheatlanta.us/events/psychedelic-breathwork-meditation/
SUMMARY:Psychedelic Breathwork & Meditation
DESCRIPTION:Join us at the Chapel on Sycamore for an invigorating session o
 f psychedelic breathwork and meditation designed to rejuvenate your body\,
  refresh your mind\, and elevate your spirit. Located at 318 Sycamore St\,
  this serene and welcoming space provides the perfect setting for a transf
 ormative experience.\n\nDuring this session\, participants will be guided 
 through a variety of breathwork techniques aimed at releasing stress\, boo
 sting energy\, and calming the mind. The practice will be followed by a gu
 ided meditation to deepen relaxation and promote inner peace.\n\nThis even
 t embraces the belief that breath is the vital force behind life and explo
 ring one's own breath can reveal profound insights and tranquility. Whethe
 r you're new to breathwork or have years of experience\, this session offe
 rs a chance to connect with your breath in a meaningful way and unlock you
 r full potential.\n\nWhat to Bring:\n\n 	Comfortable clothing\n 	A yoga ma
 t or cushion\n 	An open heart and mind\n\nAdditional Information:\n\n 	No 
 prior breathwork experience necessary\n 	Space is limited\, so be sure to 
 reserve your spot in advance\n\nDon't miss this opportunity to explore the
  transformative power of breathwork and meditation. Secure your spot today
  and embark on a journey toward greater peace and self-discovery.\n\nGET T
 ICKETS\n
ATTACH;FMTTYPE=image/jpeg:https://breatheatlanta.us/wp-content/uploads/202
 4/09/Psychedelic-Breathwork-Meditation.jpg
CATEGORIES:Things To Do,Wellness Events
LOCATION:318 Sycamore St\, 318 Sycamore Street Decatur\, Atlanta\, Georgia\
 , 30030\, GA\, United States
X-APPLE-STRUCTURED-LOCATION;VALUE=URI;X-ADDRESS=318 Sycamore Street Decatur
 \, Atlanta\, Georgia\, 30030\, GA\, United States;X-APPLE-RADIUS=100;X-TIT
 LE=318 Sycamore St:geo:0,0
END:VEVENT
BEGIN:VTIMEZONE
TZID:America/New_York
X-LIC-LOCATION:America/New_York
BEGIN:DAYLIGHT
DTSTART:20240310T030000
TZOFFSETFROM:-0500
TZOFFSETTO:-0400
TZNAME:EDT
END:DAYLIGHT
END:VTIMEZONE
END:VCALENDAR