BEGIN:VCALENDAR
VERSION:2.0
PRODID:-//wp-events-plugin.com//7.2.3.1//EN
TZID:America/New_York
X-WR-TIMEZONE:America/New_York
BEGIN:VEVENT
UID:497@breatheatlanta.us
DTSTART;TZID=America/New_York:20240914T140000
DTEND;TZID=America/New_York:20241103T235900
DTSTAMP:20240928T054158Z
URL:https://breatheatlanta.us/events/pumpkin-festival/
SUMMARY:Pumpkin Festival
DESCRIPTION:The Pumpkin Festival invites families to Play by Day with an ex
 citing lineup of park attractions and festive fall entertainment. Guests c
 an enjoy a variety of activities designed to delight all ages\, featuring 
 beloved characters from classic storybooks. These enchanting\, family-frie
 ndly experiences provide a perfect way to celebrate autumn in a playful an
 d magical atmosphere.\n\nAs day turns to night\, the park transforms into 
 a glowing wonderland with the Glow by Night experience. Visitors are treat
 ed to an electrifying nighttime spectacle\, including the vibrant Glow-a-L
 ong Party Parade and the awe-inspiring World’s Largest Pumpkin Drone &am
 p\; Light Show. The park offers numerous other glowing attractions that cr
 eate a whimsical yet not-too-spooky atmosphere\, perfect for families seek
 ing memorable evening entertainment.\n\nFor those eager to take in the stu
 nning views\, the Summit Skyride opens daily at 10 AM\, allowing guests to
  ascend and admire the breathtaking scenery. Meanwhile\, the Pumpkin Festi
 val festivities and additional park attractions officially kick off at 2 P
 M\, offering a full day of seasonal fun.\n\nThe Pumpkin Festival combines 
 daytime adventure with nighttime enchantment\, creating an unforgettable e
 xperience that immerses guests in the magic of fall from morning until eve
 ning.\n\nGET TICKETS\n
ATTACH;FMTTYPE=image/jpeg:https://breatheatlanta.us/wp-content/uploads/202
 4/09/Pumpkin-Festival.jpg
CATEGORIES:Things To Do
LOCATION:Stone Mountain Park\, Stone Mountain Park 1000 Robert E. Lee Drive
  Stone Mountain\, Atlanta\, Georgia\, 30083\, GA\, United States
X-APPLE-STRUCTURED-LOCATION;VALUE=URI;X-ADDRESS=Stone Mountain Park 1000 Ro
 bert E. Lee Drive Stone Mountain\, Atlanta\, Georgia\, 30083\, GA\, United
  States;X-APPLE-RADIUS=100;X-TITLE=Stone Mountain Park:geo:0,0
END:VEVENT
BEGIN:VTIMEZONE
TZID:America/New_York
X-LIC-LOCATION:America/New_York
BEGIN:DAYLIGHT
DTSTART:20240310T030000
TZOFFSETFROM:-0500
TZOFFSETTO:-0400
TZNAME:EDT
END:DAYLIGHT
BEGIN:STANDARD
DTSTART:20241103T010000
TZOFFSETFROM:-0400
TZOFFSETTO:-0500
TZNAME:EST
END:STANDARD
END:VTIMEZONE
END:VCALENDAR